BEGIN:VCALENDAR
VERSION:2.0
PRODID:-//Date iCal v2.14-dev//NONSGML kigkonsult.se iCalcreator 2.16.6//
METHOD:PUBLISH
X-WR-CALNAME;VALUE=TEXT:Greater Baltimore Cultural Alliance
BEGIN:VTIMEZONE
TZID:America/New_York
BEGIN:STANDARD
DTSTART:20221106T020000
TZOFFSETFROM:-0400
TZOFFSETTO:-0500
TZNAME:EST
END:STANDARD
BEGIN:DAYLIGHT
DTSTART:20230312T020000
TZOFFSETFROM:-0500
TZOFFSETTO:-0400
TZNAME:EDT
END:DAYLIGHT
END:VTIMEZONE
BEGIN:VEVENT
UID:calendar.32264.field_fc_date.0@www.baltimoreculture.org
DTSTAMP:20260423T221640Z
ATTACH;FMTTYPE=image/jpeg:https://www.baltimoreculture.org/sites/default/fi
 les/event-image/ArtWalk22_1920x1005_September.jpg
CATEGORIES:,,Exhibition,,,,,,,,,,Performance,,,Lectures/ Wor
 kshops
CREATED:20220923T171108Z
DESCRIPTION:Join us for the final Art Walk of 2022, an evening of simultan
 eous,  exhibitions, performances, and special events in the Station Nor
 th Arts  District. Pick up a map at the Charles Theatre lobby and create y
 our own  self-guided tour.\n\nThe event is free, we just ask that you reg
 ister for a ticket so we can track  attendance, and share email updates a
 nd specials.\n\nThis year marks twenty years of Station North, and we're 
 celebrating all  summer long on the final Friday of each month. Our Septem
 ber Art Walk is  district-wide, featuring 20+ venues. Stay tuned for more
  information.
DTSTART;TZID=America/New_York:20220930T170000
DTEND;TZID=America/New_York:20220930T200000
GEO:+39.309249;-76.616001
LAST-MODIFIED:20220926T194542Z
LOCATION:The Charles Theater, 1711 North Charles Street, Baltimore, MD
SUMMARY:Station North Art Walk
URL:https://www.eventbrite.com/e/station-north-art-walk-sept-30th-tickets-4
 15974369537?aff=culturefly
X-GBCA-NID:32264
END:VEVENT
END:VCALENDAR
