BEGIN:VCALENDAR
VERSION:2.0
PRODID:-//Date iCal v2.14-dev//NONSGML kigkonsult.se iCalcreator 2.16.6//
METHOD:PUBLISH
X-WR-CALNAME;VALUE=TEXT:Greater Baltimore Cultural Alliance
BEGIN:VTIMEZONE
TZID:America/New_York
BEGIN:STANDARD
DTSTART:20221106T020000
TZOFFSETFROM:-0400
TZOFFSETTO:-0500
TZNAME:EST
END:STANDARD
BEGIN:DAYLIGHT
DTSTART:20230312T020000
TZOFFSETFROM:-0500
TZOFFSETTO:-0400
TZNAME:EDT
END:DAYLIGHT
END:VTIMEZONE
BEGIN:VEVENT
UID:calendar.32294.field_fc_date.0@www.baltimoreculture.org
DTSTAMP:20260424T050324Z
ATTACH;FMTTYPE=image/jpeg:https://www.baltimoreculture.org/sites/default/fi
 les/event-image/My%20project%20%281%29.jpg
CATEGORIES:
CREATED:20220930T142554Z
DESCRIPTION:The Peabody Concert Orchestra will perform works by Revueltas,
  Saint-Georges,  Tchaikovsky on Friday, October 7 at 7:30 pm. Conducted 
 by Joseph Young, this  concert will take place in Miriam A. Friedberg Con
 cert Hall at the Peabody  Institute.
DTSTART;TZID=America/New_York:20221007T193000
DTEND;TZID=America/New_York:20221007T213000
GEO:+39.297183;-76.615203
LAST-MODIFIED:20221003T165526Z
LOCATION:Miriam A. Friedberg Concert Hall, Peabody Institute, 1 E. Mount 
 Vernon Place, Baltimore, MD
SUMMARY:Peabody Concert Orchestra - Revueltas, Saint-Georges, Tchaikovsky
URL:https://peabody.jhu.edu/event/peabody-concert-orchestra-4/
X-GBCA-NID:32294
END:VEVENT
END:VCALENDAR
