BEGIN:VCALENDAR
VERSION:2.0
PRODID:-//Date iCal v2.14-dev//NONSGML kigkonsult.se iCalcreator 2.16.6//
METHOD:PUBLISH
X-WR-CALNAME;VALUE=TEXT:Greater Baltimore Cultural Alliance
BEGIN:VTIMEZONE
TZID:America/New_York
BEGIN:STANDARD
DTSTART:20231105T020000
TZOFFSETFROM:-0400
TZOFFSETTO:-0500
TZNAME:EST
END:STANDARD
BEGIN:DAYLIGHT
DTSTART:20230312T020000
TZOFFSETFROM:-0500
TZOFFSETTO:-0400
TZNAME:EDT
END:DAYLIGHT
END:VTIMEZONE
BEGIN:VEVENT
UID:calendar.32320.field_fc_date.0@www.baltimoreculture.org
DTSTAMP:20260424T111259Z
ATTACH;FMTTYPE=image/jpeg:https://www.baltimoreculture.org/sites/default/fi
 les/event-image/My%20project%20%2814%29.jpg
CATEGORIES:
CREATED:20221003T022529Z
DESCRIPTION:Carlo Gesualdo: O vos omnes  Dieterich Buxtehude: Ad manus (To 
 the hands) from Membra Jesu Nostri  Caroline Shaw: To the hands  Matthew A
 ucoin: Choruses from Crossing  David Lang: Beautiful Dreamer, from battle
  hymns  Derrick Sky: Ready, Bright
DTSTART;TZID=America/New_York:20221207T193000
DTEND;TZID=America/New_York:20221207T210000
GEO:+39.297183;-76.615203
LAST-MODIFIED:20221003T165522Z
LOCATION:Miriam A. Friedberg Concert Hall, Peabody Institute, 1 E. Mount 
 Vernon Place, Baltimore, MD
SUMMARY:Next Ensemble, Peabody Camerata & Peabody Hopkins Conservatory Cho
 ir
URL:https://peabody.jhu.edu/event/next-ensemble-peabody-camerata-peabody-ho
 pkins-conservatory-choir/
X-GBCA-NID:32320
END:VEVENT
END:VCALENDAR
