BEGIN:VCALENDAR
VERSION:2.0
PRODID:-//Date iCal v2.14-dev//NONSGML kigkonsult.se iCalcreator 2.16.6//
METHOD:PUBLISH
X-WR-CALNAME;VALUE=TEXT:Greater Baltimore Cultural Alliance
BEGIN:VTIMEZONE
TZID:America/New_York
BEGIN:STANDARD
DTSTART:20221106T020000
TZOFFSETFROM:-0400
TZOFFSETTO:-0500
TZNAME:EST
END:STANDARD
BEGIN:DAYLIGHT
DTSTART:20230312T020000
TZOFFSETFROM:-0500
TZOFFSETTO:-0400
TZNAME:EDT
END:DAYLIGHT
END:VTIMEZONE
BEGIN:VEVENT
UID:calendar.32334.field_fc_date.0@www.baltimoreculture.org
DTSTAMP:20260425T144341Z
ATTACH;FMTTYPE=image/jpeg:https://www.baltimoreculture.org/sites/default/fi
 les/event-image/Halloween%20Happening%2C%20Haunted%20Barn%20and%20Hayride.
 jpg
CATEGORIES:,,
CREATED:20221003T213926Z
DESCRIPTION:You enjoyed the County Fair with the lights on, but what happe
 ns when it's  all over? Fear itself is hiding in the corners. Will you be 
 able to survive  the horror awaiting there? There is only one way to find 
 out!\n\nHalloween Happening is an annual Fall fundraiser. Anne Arundel Cou
 nty Fair,  Inc. is an all-volunteer, non-profit organization not subsidi
 zed by the  County or State Governments.
DTSTART;TZID=America/New_York:20221015T190000
DTEND;TZID=America/New_York:20221029T220000
GEO:+39.022116;-76.590396
LAST-MODIFIED:20221004T130845Z
LOCATION:Anne Arundel County Fairgrounds, 1450 General's Highway, Crownsv
 ille, MD
SUMMARY:Halloween Happening, Haunted Barn and Hayride
URL:https://aacountyfair.org/halloween-happening/
X-GBCA-NID:32334
END:VEVENT
END:VCALENDAR
