BEGIN:VCALENDAR
VERSION:2.0
PRODID:-//Date iCal v2.14-dev//NONSGML kigkonsult.se iCalcreator 2.16.6//
METHOD:PUBLISH
X-WR-CALNAME;VALUE=TEXT:Greater Baltimore Cultural Alliance
BEGIN:VTIMEZONE
TZID:America/New_York
BEGIN:STANDARD
DTSTART:20231105T020000
TZOFFSETFROM:-0400
TZOFFSETTO:-0500
TZNAME:EST
END:STANDARD
BEGIN:DAYLIGHT
DTSTART:20230312T020000
TZOFFSETFROM:-0500
TZOFFSETTO:-0400
TZNAME:EDT
END:DAYLIGHT
END:VTIMEZONE
BEGIN:VEVENT
UID:calendar.32613.field_fc_date.0@www.baltimoreculture.org
DTSTAMP:20260423T135835Z
ATTACH;FMTTYPE=image/jpeg:https://www.baltimoreculture.org/sites/default/fi
 les/event-image/Helicon%202021%20Winter%20Solstice%20Concert%203.jpg
CATEGORIES:,,,Performance
CREATED:20221120T033811Z
DESCRIPTION:A Baltimore tradition featuring the Baltimore-based trio, */He
 licon /*(with  */Chris Norman, Ken Kolodner, Robin Bullock/*) with speci
 al guests /*Charm  City Junction */and /*The Ken & Brad Kolodner Quartet,
  Jonathon Srour */and  */Elke Baker/*.
DTSTART;TZID=America/New_York:20221217T153000
DTEND;TZID=America/New_York:20221217T174500
GEO:+39.409959;-76.595686
LAST-MODIFIED:20221122T171139Z
LOCATION:Kraushaar Auditorium at Goucher College, 1021 Dulaney Valley Road
 , Towson, MD
SUMMARY:Helicon's 37th Annual Winter Solstice Concert with Charm City Junct
 ion, Ken &  Brad Kolodner, and friends
URL:http://www.kenkolodner.com/winter-solstice-concert.html
X-GBCA-NID:32613
END:VEVENT
BEGIN:VEVENT
UID:calendar.32613.field_fc_date.0@www.baltimoreculture.org
DTSTAMP:20260423T135835Z
ATTACH;FMTTYPE=image/jpeg:https://www.baltimoreculture.org/sites/default/fi
 les/event-image/Helicon%202021%20Winter%20Solstice%20Concert%203.jpg
CATEGORIES:,,,Performance
CREATED:20221120T033811Z
DESCRIPTION:A Baltimore tradition featuring the Baltimore-based trio, */He
 licon /*(with  */Chris Norman, Ken Kolodner, Robin Bullock/*) with speci
 al guests /*Charm  City Junction */and /*The Ken & Brad Kolodner Quartet,
  Jonathon Srour */and  */Elke Baker/*.
DTSTART;TZID=America/New_York:20221217T193000
DTEND;TZID=America/New_York:20221217T214500
GEO:+39.409959;-76.595686
LAST-MODIFIED:20221122T171139Z
LOCATION:Kraushaar Auditorium at Goucher College, 1021 Dulaney Valley Road
 , Towson, MD
SUMMARY:Helicon's 37th Annual Winter Solstice Concert with Charm City Junct
 ion, Ken &  Brad Kolodner, and friends
URL:http://www.kenkolodner.com/winter-solstice-concert.html
X-GBCA-NID:32613
END:VEVENT
END:VCALENDAR
