BEGIN:VCALENDAR
VERSION:2.0
PRODID:-//Date iCal v2.14-dev//NONSGML kigkonsult.se iCalcreator 2.16.6//
METHOD:PUBLISH
X-WR-CALNAME;VALUE=TEXT:Greater Baltimore Cultural Alliance
BEGIN:VTIMEZONE
TZID:America/New_York
BEGIN:STANDARD
DTSTART:20231105T020000
TZOFFSETFROM:-0400
TZOFFSETTO:-0500
TZNAME:EST
END:STANDARD
BEGIN:DAYLIGHT
DTSTART:20230312T020000
TZOFFSETFROM:-0500
TZOFFSETTO:-0400
TZNAME:EDT
END:DAYLIGHT
END:VTIMEZONE
BEGIN:VEVENT
UID:calendar.32621.field_fc_date.0@www.baltimoreculture.org
DTSTAMP:20260423T075549Z
ATTACH;FMTTYPE=image/png:https://www.baltimoreculture.org/sites/default/fil
 es/u3452/Screen%20Shot%202022-11-23%20at%203.25.45%20PM.png
CATEGORIES:,,,History & Heritage,
CREATED:20221123T202803Z
DESCRIPTION:A virtual lecture on the “Don’t Buy Where You Can’t Work” campa
 ign of  the 1930s, presented by Rachel Donaldson, Curator of Collections
  and  Exhibitions at the BMI, in partnership with the Lillie Carroll Jack
 son Civil  Rights Museum. Representatives from the Maryland Center for His
 tory and  Culture will share related resources in their collections and we
 ’ll hear  about the Pennsylvania Avenue Black Arts and Entertainment Distr
 ict’s  Historical Photography Project. This presentation will be recorded 
 and posted  on the BMI’s YouTube channel.
DTSTART;TZID=America/New_York:20221214T123000
DTEND;TZID=America/New_York:20221214T133000
LAST-MODIFIED:20230830T001256Z
LOCATION:Virtual Event!, This event takes place online., Participate from
  Anywhere you are!, MD
SUMMARY:Lunch and Learn: Don’t Buy Where You Can’t Work
URL:https://www.thebmi.org/programs-events/lunch-learn/
X-GBCA-NID:32621
END:VEVENT
END:VCALENDAR
