BEGIN:VCALENDAR
VERSION:2.0
PRODID:-//Date iCal v2.14-dev//NONSGML kigkonsult.se iCalcreator 2.16.6//
METHOD:PUBLISH
X-WR-CALNAME;VALUE=TEXT:Greater Baltimore Cultural Alliance
BEGIN:VTIMEZONE
TZID:America/New_York
BEGIN:STANDARD
DTSTART:20231105T020000
TZOFFSETFROM:-0400
TZOFFSETTO:-0500
TZNAME:EST
END:STANDARD
BEGIN:DAYLIGHT
DTSTART:20230312T020000
TZOFFSETFROM:-0500
TZOFFSETTO:-0400
TZNAME:EDT
END:DAYLIGHT
END:VTIMEZONE
BEGIN:VEVENT
UID:calendar.32747.field_fc_date.0@www.baltimoreculture.org
DTSTAMP:20260424T054007Z
ATTACH;FMTTYPE=image/png:https://www.baltimoreculture.org/sites/default/fil
 es/event-image/tots-tuesday-website.png
CATEGORIES:Lectures/ Workshops,,
CREATED:20221214T213552Z
DESCRIPTION:At VLP, we honor lifelong learning and understand the importan
 ce of starting  early and making it fun. We hope you join us for our Tots 
 Tuesday Storytime  for toddlers & preschoolers! Tots Tuesday Storytime is 
 an interactive  storytime for children ages 2–4 years old and their parent
 s/caregivers.\n\nTots Tuesday Storytime has just gotten back to being in-p
 erson. Check out our  past, virtual Tots Tuesday videos on our YouTube ch
 annel!\n\nFor any questions or concerns please email: info@villagelearning
 place.org [1]\n\n\n[1] mailto:info@villagelearningplace.org
DTSTART;TZID=America/New_York:20230103T101500
DTEND;TZID=America/New_York:20230103T111500
GEO:+39.318612;-76.615117
LAST-MODIFIED:20221219T164952Z
LOCATION:Village Learning Place, 2521 St Paul Street, Baltimiore, MD
SUMMARY:Tots Tuesday Storytime
URL:https://www.villagelearningplace.org/program/tots-tuesday-storytime/
X-GBCA-NID:32747
END:VEVENT
END:VCALENDAR
