BEGIN:VCALENDAR
VERSION:2.0
PRODID:-//Date iCal v2.14-dev//NONSGML kigkonsult.se iCalcreator 2.16.6//
METHOD:PUBLISH
X-WR-CALNAME;VALUE=TEXT:Greater Baltimore Cultural Alliance
BEGIN:VTIMEZONE
TZID:America/New_York
BEGIN:STANDARD
DTSTART:20231105T020000
TZOFFSETFROM:-0400
TZOFFSETTO:-0500
TZNAME:EST
END:STANDARD
BEGIN:DAYLIGHT
DTSTART:20230312T020000
TZOFFSETFROM:-0500
TZOFFSETTO:-0400
TZNAME:EDT
END:DAYLIGHT
END:VTIMEZONE
BEGIN:VEVENT
UID:calendar.32814.field_fc_date.0@www.baltimoreculture.org
DTSTAMP:20260423T183635Z
ATTACH;FMTTYPE=image/png:https://www.baltimoreculture.org/sites/default/fil
 es/event-image/Untitled%20design%286%29.png
CATEGORIES:,Exhibition
CREATED:20230110T181431Z
DESCRIPTION:EcoHope must exist alongside EcoDespair, but the arts can offe
 r a path for  renewal through visual and responsive engagement. The artist
  -activists in  this exhibition are intercessors and illuminators--whether
  the work is  conceptual, allegorical or metaphorical, or representation
 al and specific, it  examines and addresses systemic environmental failur
 e through remediation,  confrontation, education, personal lived action
 s of the artist, or simply by  drawing attention and asking the viewer to
  respond.Curated by J. Susan Isaacs  and Erin Lehman.
DTSTART;TZID=America/New_York:20230127T230000
DTEND;TZID=America/New_York:20230415T200000
EXDATE;TZID=America/New_York:20230321T230000
EXDATE;TZID=America/New_York:20230322T230000
EXDATE;TZID=America/New_York:20230323T230000
EXDATE;TZID=America/New_York:20230324T230000
EXDATE;TZID=America/New_York:20230324T230000
EXDATE;TZID=America/New_York:20230325T230000
GEO:+39.393623;-76.607109
LAST-MODIFIED:20230117T200757Z
LOCATION:Towson University Center for the Arts Atrium and Galleries, 8000 
 York Rd, Towson, MD
RRULE:FREQ=WEEKLY;UNTIL=20230416T075959Z;INTERVAL=1;BYDAY=TU,WE,TH,FR,SA;WK
 ST=SU
SUMMARY:Exhibition: DISordered Systems
URL:https://www.towson.edu/campus/artsculture/centers/exhibitions.html
X-GBCA-NID:32814
END:VEVENT
END:VCALENDAR
