BEGIN:VCALENDAR
VERSION:2.0
PRODID:-//Date iCal v2.14-dev//NONSGML kigkonsult.se iCalcreator 2.16.6//
METHOD:PUBLISH
X-WR-CALNAME;VALUE=TEXT:Greater Baltimore Cultural Alliance
BEGIN:VTIMEZONE
TZID:America/New_York
BEGIN:STANDARD
DTSTART:20231105T020000
TZOFFSETFROM:-0400
TZOFFSETTO:-0500
TZNAME:EST
END:STANDARD
BEGIN:DAYLIGHT
DTSTART:20240310T020000
TZOFFSETFROM:-0500
TZOFFSETTO:-0400
TZNAME:EDT
END:DAYLIGHT
END:VTIMEZONE
BEGIN:VEVENT
UID:calendar.32837.field_fc_date.0@www.baltimoreculture.org
DTSTAMP:20260424T221127Z
ATTACH;FMTTYPE=image/png:https://www.baltimoreculture.org/sites/default/fil
 es/event-image/RSS%20Email%20Header%20%281600x800%20px%29.png
CATEGORIES:,,,
CREATED:20230117T204040Z
DESCRIPTION:The Happiest Morning in Maryland is right around the corner! La
 ce up and join  the Ronald McDonald House Charities of Maryland for the 12
 th Annual Red Shoe  Shuffle 5K Run & Walk on Sunday, April 16, 2023, be
 ginning at 8:30 am. This  year, we’re shuffling for the KIDS! With thousa
 nds of runners and walkers  joining together as one super (and red & white
  striped) community, we show  our RMHC families that when the going gets 
 tough, they have our support and  strength at their backs, ready to chee
 r them on.
DTSTART;TZID=America/New_York:20230416T083000
DTEND;TZID=America/New_York:20230416T110000
LAST-MODIFIED:20230124T183802Z
LOCATION:Ronald McDonald House Charities Maryland, 1 Aisquith Street, Bal
 timore, MD
SUMMARY:Red Shoe Shuffle 5k Run and Walk
URL:http://redshoeshuffle.org
X-GBCA-NID:32837
END:VEVENT
END:VCALENDAR
