BEGIN:VCALENDAR
VERSION:2.0
PRODID:-//Date iCal v2.14-dev//NONSGML kigkonsult.se iCalcreator 2.16.6//
METHOD:PUBLISH
X-WR-CALNAME;VALUE=TEXT:Greater Baltimore Cultural Alliance
BEGIN:VTIMEZONE
TZID:America/New_York
BEGIN:STANDARD
DTSTART:20231105T020000
TZOFFSETFROM:-0400
TZOFFSETTO:-0500
TZNAME:EST
END:STANDARD
BEGIN:DAYLIGHT
DTSTART:20230312T020000
TZOFFSETFROM:-0500
TZOFFSETTO:-0400
TZNAME:EDT
END:DAYLIGHT
END:VTIMEZONE
BEGIN:VEVENT
UID:calendar.32900.field_fc_date.0@www.baltimoreculture.org
DTSTAMP:20260423T102139Z
ATTACH;FMTTYPE=image/jpeg:https://www.baltimoreculture.org/sites/default/fi
 les/u497/Kesner-Parker.jpg
CATEGORIES:,,Performance
CREATED:20230201T211143Z
DESCRIPTION:Flutist *Lori Kesner* [1] and pianist *María José Parker* [2] p
 resent  *Daydreams of the Flute*, which takes the audience on a musical j
 ourney of  the flute fantasia repertoire.\n\n\n[1] https://music.umbc.edu/
 directory/kesner/ [2] https://www.thewell-traveledclavier.com/about
DTSTART;TZID=America/New_York:20230217T193000
DTEND;TZID=America/New_York:20230217T210000
GEO:+39.253801;-76.714273
LAST-MODIFIED:20231130T001256Z
LOCATION:Earl and Darielle Linehan Concert Hall at UMBC, 1000 Hilltop Circ
 le, Baltimore, MD
SUMMARY:Daydreams of the Flute
URL:https://umbc.edu/event/daydreams-of-the-flute/
X-GBCA-NID:32900
END:VEVENT
END:VCALENDAR
