BEGIN:VCALENDAR
VERSION:2.0
PRODID:-//Date iCal v2.14-dev//NONSGML kigkonsult.se iCalcreator 2.16.6//
METHOD:PUBLISH
X-WR-CALNAME;VALUE=TEXT:Greater Baltimore Cultural Alliance
BEGIN:VTIMEZONE
TZID:America/New_York
BEGIN:STANDARD
DTSTART:20231105T020000
TZOFFSETFROM:-0400
TZOFFSETTO:-0500
TZNAME:EST
END:STANDARD
BEGIN:DAYLIGHT
DTSTART:20230312T020000
TZOFFSETFROM:-0500
TZOFFSETTO:-0400
RDATE:20240310T020000
TZNAME:EDT
END:DAYLIGHT
END:VTIMEZONE
BEGIN:VEVENT
UID:calendar.32975.field_fc_date.0@www.baltimoreculture.org
DTSTAMP:20260422T104135Z
ATTACH;FMTTYPE=image/jpeg:https://www.baltimoreculture.org/sites/default/fi
 les/event-image/52672997_2908702242479756_3262459842396160000_n_0.jpg
CATEGORIES:Lectures/ Workshops,History & Heritage,,
CREATED:20230214T165232Z
DESCRIPTION:Jonestown is one of Baltimore’s oldest and most historic neighb
 orhoods.  Both groundbreaking industry and vibrant communities have thrive
 d here. On  this tour, we will see the vestiges of its Eastern European J
 ewish residents  as we pass Corned Beef Row.
DTSTART;TZID=America/New_York:20230408T100000
DTEND;TZID=America/New_York:20230408T110000
GEO:+39.288568;-76.604436
LAST-MODIFIED:20230215T192804Z
LOCATION:Carroll Mansion, 800 E. Lombard Street, Baltimore, MD
SUMMARY:Jonestown & the Shot Tower: A Walking Tour
URL:https://baltimoreheritage.org/event/jonestown-the-shot-tower-a-walking-
 tour-3/
X-GBCA-NID:32975
END:VEVENT
END:VCALENDAR
