BEGIN:VCALENDAR
VERSION:2.0
PRODID:-//Date iCal v2.14-dev//NONSGML kigkonsult.se iCalcreator 2.16.6//
METHOD:PUBLISH
X-WR-CALNAME;VALUE=TEXT:Greater Baltimore Cultural Alliance
BEGIN:VTIMEZONE
TZID:America/New_York
BEGIN:STANDARD
DTSTART:20231105T020000
TZOFFSETFROM:-0400
TZOFFSETTO:-0500
TZNAME:EST
END:STANDARD
BEGIN:DAYLIGHT
DTSTART:20230312T020000
TZOFFSETFROM:-0500
TZOFFSETTO:-0400
TZNAME:EDT
END:DAYLIGHT
END:VTIMEZONE
BEGIN:VEVENT
UID:calendar.33001.field_fc_date.0@www.baltimoreculture.org
DTSTAMP:20260422T133804Z
ATTACH;FMTTYPE=image/jpeg:https://www.baltimoreculture.org/sites/default/fi
 les/event-image/VG_install_sm.jpg
CATEGORIES:,Exhibition,History & Heritage
CREATED:20230217T202355Z
DESCRIPTION:Discovering Vilen Giterman’s Painting Style\n\nJanuary 30 – Apr
 il 15, 2023\n\nA reception will take place on Friday, March 24 between 4
 :00-6:00pm.
DTSTART;TZID=America/New_York:20230130T090000
DTEND;TZID=America/New_York:20230415T160000
LAST-MODIFIED:20230219T181710Z
LOCATION:Stevenson University School of Design, 11100 Ted Herget Way, Owi
 ngs Mills North Campus, Owings Mills, MD
SUMMARY:Discovering Vilen Giterman's Painting Style
URL:https://www.stevenson.edu/about/arts-cultural-programs/
X-GBCA-NID:33001
END:VEVENT
END:VCALENDAR
