BEGIN:VCALENDAR
VERSION:2.0
PRODID:-//Date iCal v2.14-dev//NONSGML kigkonsult.se iCalcreator 2.16.6//
METHOD:PUBLISH
X-WR-CALNAME;VALUE=TEXT:Greater Baltimore Cultural Alliance
BEGIN:VTIMEZONE
TZID:America/New_York
BEGIN:STANDARD
DTSTART:20231105T020000
TZOFFSETFROM:-0400
TZOFFSETTO:-0500
TZNAME:EST
END:STANDARD
BEGIN:DAYLIGHT
DTSTART:20230312T020000
TZOFFSETFROM:-0500
TZOFFSETTO:-0400
TZNAME:EDT
END:DAYLIGHT
END:VTIMEZONE
BEGIN:VEVENT
UID:calendar.33017.field_fc_date.0@www.baltimoreculture.org
DTSTAMP:20260423T015554Z
ATTACH;FMTTYPE=image/jpeg:https://www.baltimoreculture.org/sites/default/fi
 les/u497/Faculty%20Jazz%20Ensemble%20Collage.jpg
CATEGORIES:,,Performance
CREATED:20230221T162316Z
DESCRIPTION:UMBC's Department of Music [1] presents the *UMBC Faculty Jazz 
 Ensemble* in  concert, performing modern interpretations of classic and r
 ecent jazz  compositions.\n\n\n[1] https://my3.my.umbc.edu/groups/music/ev
 ents/music.umbc.edu
DTSTART;TZID=America/New_York:20230224T193000
DTEND;TZID=America/New_York:20230224T213000
GEO:+39.253801;-76.714273
LAST-MODIFIED:20231130T001256Z
LOCATION:Earl and Darielle Linehan Concert Hall at UMBC, 1000 Hilltop Circ
 le, Baltimore, MD
SUMMARY:UMBC Faculty Jazz Ensemble
URL:https://umbc.edu/event/umbc-faculty-jazz-ensemble-2/
X-GBCA-NID:33017
END:VEVENT
END:VCALENDAR
