BEGIN:VCALENDAR
VERSION:2.0
PRODID:-//Date iCal v2.14-dev//NONSGML kigkonsult.se iCalcreator 2.16.6//
METHOD:PUBLISH
X-WR-CALNAME;VALUE=TEXT:Greater Baltimore Cultural Alliance
BEGIN:VTIMEZONE
TZID:America/New_York
BEGIN:STANDARD
DTSTART:20231105T020000
TZOFFSETFROM:-0400
TZOFFSETTO:-0500
TZNAME:EST
END:STANDARD
BEGIN:DAYLIGHT
DTSTART:20230312T020000
TZOFFSETFROM:-0500
TZOFFSETTO:-0400
TZNAME:EDT
END:DAYLIGHT
END:VTIMEZONE
BEGIN:VEVENT
UID:calendar.33031.field_fc_date.0@www.baltimoreculture.org
DTSTAMP:20260423T183534Z
ATTACH;FMTTYPE=image/png:https://www.baltimoreculture.org/sites/default/fil
 es/event-image/Culture%20Fly%20Ad.png
CATEGORIES:,Exhibition,,
CREATED:20230221T175011Z
DESCRIPTION:This year's Asia North exhibition, TRANSition/TRANSformation/T
 RANScendence,  will feature works that express how we face a world consta
 ntly in flux. A few  examples of this broad theme are: Emerging from the p
 andemic to adjust to a  'new normal'; altering our habits due to, and to
  stem, climate change;  transitioning out of and transcending toxic envi
 ronments and relationships;  bearing witness to the physical/mental decli
 ne of a loved one as they  transition from this life to the next, and adj
 usting to a new reality when  that loved one is gone; enacting change to 
 right previous wrongs.
DTSTART;TZID=America/New_York:20230221T124500
DTEND;TZID=America/New_York:20230317T123000
LAST-MODIFIED:20230222T161325Z
LOCATION:Asian Arts & Cultures Center, Asian Art Gallery ( CA 2037), 7700
  Osler Dr, Towson, MD 21204, Towson, MD
SUMMARY:Art Call for Asia North 2023
URL;TYPE=URI:https://www.baltimoreculture.org/calendar/event/33031/art-call
 -asia-north-2023
X-GBCA-NID:33031
END:VEVENT
END:VCALENDAR
