BEGIN:VCALENDAR
VERSION:2.0
PRODID:-//Date iCal v2.14-dev//NONSGML kigkonsult.se iCalcreator 2.16.6//
METHOD:PUBLISH
X-WR-CALNAME;VALUE=TEXT:Greater Baltimore Cultural Alliance
BEGIN:VTIMEZONE
TZID:America/New_York
BEGIN:STANDARD
DTSTART:20231105T020000
TZOFFSETFROM:-0400
TZOFFSETTO:-0500
TZNAME:EST
END:STANDARD
BEGIN:DAYLIGHT
DTSTART:20230312T020000
TZOFFSETFROM:-0500
TZOFFSETTO:-0400
RDATE:20240310T020000
TZNAME:EDT
END:DAYLIGHT
END:VTIMEZONE
BEGIN:VEVENT
UID:calendar.33174.field_fc_date.0@www.baltimoreculture.org
DTSTAMP:20260422T135841Z
ATTACH;FMTTYPE=image/jpeg:https://www.baltimoreculture.org/sites/default/fi
 les/u497/Crossland-Moore%202.jpg
CATEGORIES:,,Performance
CREATED:20230328T190953Z
DESCRIPTION:Trombonist *Patrick Crossland* [1] and pianist *Thomas Moore* [
 2] present a  program of contemporary works by *John Cage*, *Thomas DeLio
 *, *Alvin Lucier*,  and *Christian Wolff*:\n\n\n[1] https://music.umbc.e
 du/directory/crossland/ [2] https://thomasmoore.info/
DTSTART;TZID=America/New_York:20230406T193000
DTEND;TZID=America/New_York:20230406T213000
GEO:+39.253801;-76.714273
LAST-MODIFIED:20231130T001256Z
LOCATION:Earl and Darielle Linehan Concert Hall at UMBC, 1000 Hilltop Circ
 le, Baltimore, MD
SUMMARY:Patrick Crossland and Thomas Moore
URL:https://umbc.edu/event/patrick-crossland-and-thomas-moore/
X-GBCA-NID:33174
END:VEVENT
END:VCALENDAR
