BEGIN:VCALENDAR
VERSION:2.0
PRODID:-//Date iCal v2.14-dev//NONSGML kigkonsult.se iCalcreator 2.16.6//
METHOD:PUBLISH
X-WR-CALNAME;VALUE=TEXT:Greater Baltimore Cultural Alliance
BEGIN:VTIMEZONE
TZID:America/New_York
BEGIN:STANDARD
DTSTART:20231105T020000
TZOFFSETFROM:-0400
TZOFFSETTO:-0500
TZNAME:EST
END:STANDARD
BEGIN:DAYLIGHT
DTSTART:20240310T020000
TZOFFSETFROM:-0500
TZOFFSETTO:-0400
TZNAME:EDT
END:DAYLIGHT
END:VTIMEZONE
BEGIN:VEVENT
UID:calendar.33228.field_fc_date.0@www.baltimoreculture.org
DTSTAMP:20260424T131830Z
ATTACH;FMTTYPE=image/png:https://www.baltimoreculture.org/sites/default/fil
 es/event-image/Adult-Education-GED-Math-CLasses.png
CATEGORIES:Lectures/ Workshops,Professional Development,Lectures/ Worksho
 ps
CREATED:20230410T200705Z
DESCRIPTION:Village Learning Place is offering Pre-GED math prep help for a
 dults in the  community who seek to improve their math skills for the GED 
 test. Tutoring  sessions will be held in the VLP Library at 2521 Saint Pau
 l St, Baltimore, MD  21218 on Wednesdays, 5:30PM – 7:00PM beginning Apr
 il 19th and ending May  24th.* There will be no session on May 17th. * Vil
 lage Learning Place math  tutoring sessions are free and open to the publi
 c. Drop-ins are welcome.\n\nRegistration preferred: http://bit.ly/MathTuto
 ring23 [1]\n\n\n[1] http://bit.ly/MathTutoring23
DTSTART;TZID=America/New_York:20230419T173000
DTEND;TZID=America/New_York:20230524T190000
GEO:+39.318612;-76.615117
LAST-MODIFIED:20230411T144129Z
LOCATION:Village Learning Place, 2521 St Paul Street, Baltimiore, MD
SUMMARY:Adult Education: GED Prep Math Classes
URL:https://www.villagelearningplace.org/event/adult-education-ged-prep-mat
 h-classes/2023-04-19/
X-GBCA-NID:33228
END:VEVENT
END:VCALENDAR
