BEGIN:VCALENDAR
VERSION:2.0
PRODID:-//Date iCal v2.14-dev//NONSGML kigkonsult.se iCalcreator 2.16.6//
METHOD:PUBLISH
X-WR-CALNAME;VALUE=TEXT:Greater Baltimore Cultural Alliance
BEGIN:VTIMEZONE
TZID:America/New_York
BEGIN:STANDARD
DTSTART:20231105T020000
TZOFFSETFROM:-0400
TZOFFSETTO:-0500
TZNAME:EST
END:STANDARD
BEGIN:DAYLIGHT
DTSTART:20240310T020000
TZOFFSETFROM:-0500
TZOFFSETTO:-0400
TZNAME:EDT
END:DAYLIGHT
END:VTIMEZONE
BEGIN:VEVENT
UID:calendar.33417.field_fc_date.0@www.baltimoreculture.org
DTSTAMP:20260422T233818Z
ATTACH;FMTTYPE=image/png:https://www.baltimoreculture.org/sites/default/fil
 es/event-image/Old%20Line%20May%20Banner-1%20%282%29_resized.png
CATEGORIES:,Nightlife,Performance,
CREATED:20230520T010620Z
DESCRIPTION:Highwire Improv returns to Old Line Spirits for another night o
 f amazing  improv comedy and delicious drinks from Old Line Spirits!\n\nTh
 is is a rain or shine event - in case of inclement weather we'll be indoor
 s  in the stillhouse, but we'll plan to be out among the stars on Old Lin
 e's  beautiful patio space.\n\nAbout the acts:\n\nC﻿roc Talk is a house te
 am of the Lou Costello Room and brings you super  high energy improv with 
 dynamic characters, wild situations, and lots of  laughter.
DTSTART;TZID=America/New_York:20230526T190000
DTEND;TZID=America/New_York:20230526T210000
GEO:+39.29021;-76.561205
LAST-MODIFIED:20230523T154706Z
LOCATION:Old Line Spirits, 4201 E Pratt St, Baltimore, MD
SUMMARY:The Spirit of Improv at Old Line Spirits
URL:https://www.eventbrite.com/e/the-spirit-of-improv-at-old-line-spirits-t
 ickets-630244788127
X-GBCA-NID:33417
END:VEVENT
END:VCALENDAR
