BEGIN:VCALENDAR
VERSION:2.0
PRODID:-//Date iCal v2.14-dev//NONSGML kigkonsult.se iCalcreator 2.16.6//
METHOD:PUBLISH
X-WR-CALNAME;VALUE=TEXT:Greater Baltimore Cultural Alliance
BEGIN:VTIMEZONE
TZID:America/New_York
BEGIN:STANDARD
DTSTART:20231105T020000
TZOFFSETFROM:-0400
TZOFFSETTO:-0500
TZNAME:EST
END:STANDARD
BEGIN:DAYLIGHT
DTSTART:20240310T020000
TZOFFSETFROM:-0500
TZOFFSETTO:-0400
TZNAME:EDT
END:DAYLIGHT
END:VTIMEZONE
BEGIN:VEVENT
UID:calendar.33424.field_fc_date.0@www.baltimoreculture.org
DTSTAMP:20260423T165101Z
ATTACH;FMTTYPE=image/png:https://www.baltimoreculture.org/sites/default/fil
 es/event-image/Monday-June-19-11-am-4pm.png
CATEGORIES:History & Heritage
CREATED:20230522T133617Z
DESCRIPTION:Juneteenth Celebration: Envisioning A New Future FREE ADMISSION
  | Monday, June 19 | 11 am to 4 pm
DTSTART;TZID=America/New_York:20230619T110000
DTEND;TZID=America/New_York:20230619T160000
LAST-MODIFIED:20230523T154703Z
LOCATION:Reginald F. Lewis Museum, 830 East Pratt Street, Baltimore, MD
SUMMARY:Juneteenth Celebration: Envisioning A New Future
URL:https://www.lewismuseum.org/event/juneteenth-celebration-envisioning-a-
 new-future/
X-GBCA-NID:33424
END:VEVENT
END:VCALENDAR
