BEGIN:VCALENDAR
VERSION:2.0
PRODID:-//Date iCal v2.14-dev//NONSGML kigkonsult.se iCalcreator 2.16.6//
METHOD:PUBLISH
X-WR-CALNAME;VALUE=TEXT:Greater Baltimore Cultural Alliance
BEGIN:VTIMEZONE
TZID:America/New_York
BEGIN:STANDARD
DTSTART:20231105T020000
TZOFFSETFROM:-0400
TZOFFSETTO:-0500
TZNAME:EST
END:STANDARD
BEGIN:DAYLIGHT
DTSTART:20240310T020000
TZOFFSETFROM:-0500
TZOFFSETTO:-0400
TZNAME:EDT
END:DAYLIGHT
END:VTIMEZONE
BEGIN:VEVENT
UID:calendar.33504.field_fc_date.0@www.baltimoreculture.org
DTSTAMP:20260424T090625Z
ATTACH;FMTTYPE=image/jpeg:https://www.baltimoreculture.org/sites/default/fi
 les/event-image/Family%20game_0.jpg
CATEGORIES:,
CREATED:20230612T075022Z
DESCRIPTION:Hop in on Thursday, June 15th from 5-9pm for game night with t
 he family! Board games, dominoes and cards will be available to sit and p
 lay with the  kids. What a great way to spend some time together on a Thur
 sday evening! For an extra special treat - get 4 kids cups for $20!Reserve
  your family  4pack today! See cashier to get your cups!
DTSTART;TZID=America/New_York:20230615T170000
DTEND;TZID=America/New_York:20230615T210000
LAST-MODIFIED:20230616T232858Z
LOCATION:SweetFrog Timonium, 2159 York Rd, Timonium, MD
SUMMARY:Family Game Night at sweetFrog Timonium
URL:https://cli.re/41930-family-game-night-at-sweetfrog-timonium
X-GBCA-NID:33504
END:VEVENT
END:VCALENDAR
