BEGIN:VCALENDAR
VERSION:2.0
PRODID:-//Date iCal v2.14-dev//NONSGML kigkonsult.se iCalcreator 2.16.6//
METHOD:PUBLISH
X-WR-CALNAME;VALUE=TEXT:Greater Baltimore Cultural Alliance
BEGIN:VTIMEZONE
TZID:America/New_York
BEGIN:STANDARD
DTSTART:20231105T020000
TZOFFSETFROM:-0400
TZOFFSETTO:-0500
TZNAME:EST
END:STANDARD
BEGIN:DAYLIGHT
DTSTART:20240310T020000
TZOFFSETFROM:-0500
TZOFFSETTO:-0400
TZNAME:EDT
END:DAYLIGHT
END:VTIMEZONE
BEGIN:VEVENT
UID:calendar.33514.field_fc_date.0@www.baltimoreculture.org
DTSTAMP:20260424T111919Z
ATTACH;FMTTYPE=image/png:https://www.baltimoreculture.org/sites/default/fil
 es/event-image/Pride%20June%2022.png
CATEGORIES:History & Heritage,
CREATED:20230614T133235Z
DESCRIPTION:Mix and mingle at The Reginald F. Lewis Museum with afro futuri
 stic exhibits,  poetry, short films, music, and refreshments during Ba
 ltimore Pride Week. The  evening kicks off with a series of short films ex
 ploring themes on same  gender love, coming of age, parental acceptance\
 , and bullying screened by the  Baltimore International Black Film Festiva
 l. A talk back about coming of age  and growing into their own personhood 
 will follow.
DTSTART;TZID=America/New_York:20230622T180000
DTEND;TZID=America/New_York:20230622T200000
LAST-MODIFIED:20230616T232856Z
LOCATION:Reginald F. Lewis Museum, 830 East Pratt Street, Baltimore, MD
SUMMARY:PRIDE Film and Poetry Mixer: How the Boogeyman Became a Poet featur
 ing Tony  Keith Jr., Candice Iloh, and the Baltimore International Black
  Film Festival
URL:https://www.lewismuseum.org/event/pride-film-and-poetry-mixer-how-the-b
 oogeyman-became-a-poet-featuring-tony-keith-jr-candice-iloh-and-baltimore-
 international-film-festival/
X-GBCA-NID:33514
END:VEVENT
END:VCALENDAR
