BEGIN:VCALENDAR
VERSION:2.0
PRODID:-//Date iCal v2.14-dev//NONSGML kigkonsult.se iCalcreator 2.16.6//
METHOD:PUBLISH
X-WR-CALNAME;VALUE=TEXT:Greater Baltimore Cultural Alliance
BEGIN:VTIMEZONE
TZID:America/New_York
BEGIN:STANDARD
DTSTART:20231105T020000
TZOFFSETFROM:-0400
TZOFFSETTO:-0500
TZNAME:EST
END:STANDARD
BEGIN:DAYLIGHT
DTSTART:20240310T020000
TZOFFSETFROM:-0500
TZOFFSETTO:-0400
TZNAME:EDT
END:DAYLIGHT
END:VTIMEZONE
BEGIN:VEVENT
UID:calendar.33539.field_fc_date.0@www.baltimoreculture.org
DTSTAMP:20260425T110700Z
ATTACH;FMTTYPE=image/png:https://www.baltimoreculture.org/sites/default/fil
 es/event-image/HW_Magic-MH-BW_EB.png
CATEGORIES:,,Performance,,Lectures/ Workshops
CREATED:20230616T014122Z
DESCRIPTION:Step into the exciting world of improv with our interactive wor
 kshop,  'Discover the Magic of Improv.' This two-hour in-person experienc
 e is  specially designed for individuals who are curious about exploring t
 he thrill  of improv for the first time. Get ready to embark on a low-pres
 sure,  fun-filled adventure that will unleash your creativity, boost you
 r  confidence, and ignite your sense of playfulness.
DTSTART;TZID=America/New_York:20230706T190000
DTEND;TZID=America/New_York:20230706T210000
GEO:+39.326345;-76.617017
LAST-MODIFIED:20230616T232851Z
LOCATION:Homewood Friends, 3107 North Charles Street, Baltimore, MD
SUMMARY:Discover the Magic of Improv: a 2-Hour Intro Workshop
URL:https://www.eventbrite.com/e/discover-the-magic-of-improv-a-2-hour-intr
 o-workshop-tickets-656200612697
X-GBCA-NID:33539
END:VEVENT
END:VCALENDAR
