BEGIN:VCALENDAR
VERSION:2.0
PRODID:-//Date iCal v2.14-dev//NONSGML kigkonsult.se iCalcreator 2.16.6//
METHOD:PUBLISH
X-WR-CALNAME;VALUE=TEXT:Greater Baltimore Cultural Alliance
BEGIN:VTIMEZONE
TZID:America/New_York
BEGIN:STANDARD
DTSTART:20231105T020000
TZOFFSETFROM:-0400
TZOFFSETTO:-0500
TZNAME:EST
END:STANDARD
BEGIN:DAYLIGHT
DTSTART:20240310T020000
TZOFFSETFROM:-0500
TZOFFSETTO:-0400
TZNAME:EDT
END:DAYLIGHT
END:VTIMEZONE
BEGIN:VEVENT
UID:calendar.33555.field_fc_date.0@www.baltimoreculture.org
DTSTAMP:20260425T153609Z
ATTACH;FMTTYPE=image/png:https://www.baltimoreculture.org/sites/default/fil
 es/event-image/42614.png
CATEGORIES:Lectures/ Workshops,,Lectures/ Workshops
CREATED:20230620T170752Z
DESCRIPTION:Hop in all day long with your scout or with your troop for a fr
 ee scout  craft. Make a Whale Tail SWAPS for your next campfire! (While su
 pplies last)\n\nThis is not a drop off event. Children must be accompanied
  by an adult.\n\n#sweetFrog #Crafts #SWAPs
DTSTART;TZID=America/New_York:20230627T120000
DTEND;TZID=America/New_York:20230627T210000
LAST-MODIFIED:20230622T173030Z
LOCATION:sweetFrog Dundalk, 1407 Merritt Blvd, Dundalk, MD
SUMMARY:Free SWAPS craft at sweetFrog Dundalk
URL:https://cli.re/42614-free-swaps-craft-at-sweetfrog-dundalk
X-GBCA-NID:33555
END:VEVENT
END:VCALENDAR
