BEGIN:VCALENDAR
VERSION:2.0
PRODID:-//Date iCal v2.14-dev//NONSGML kigkonsult.se iCalcreator 2.16.6//
METHOD:PUBLISH
X-WR-CALNAME;VALUE=TEXT:Greater Baltimore Cultural Alliance
BEGIN:VTIMEZONE
TZID:America/New_York
BEGIN:STANDARD
DTSTART:20231105T020000
TZOFFSETFROM:-0400
TZOFFSETTO:-0500
TZNAME:EST
END:STANDARD
BEGIN:DAYLIGHT
DTSTART:20230312T020000
TZOFFSETFROM:-0500
TZOFFSETTO:-0400
TZNAME:EDT
END:DAYLIGHT
END:VTIMEZONE
BEGIN:VEVENT
UID:calendar.33628.field_fc_date.0@www.baltimoreculture.org
DTSTAMP:20260423T165446Z
ATTACH;FMTTYPE=image/jpeg:https://www.baltimoreculture.org/sites/default/fi
 les/event-image/BRB%202023%20Globe.jpg
CATEGORIES:Activities
CREATED:20230713T212238Z
DESCRIPTION:BRB (Baltimore Record Bazaar) @ Peabody Heights Brewery (401 E 
 30th St)\n\n2023 Bi-Monthly 4th Sundays JAN - Winter - 1.22 MARCH - Spring
  - 3.26 MAY - Sprung - 5.28 JULY - Summer - 7.23 SEPT. - Fall - 9.24 NOV. 
 - Holiday - 11.26\n\nIndoor/Outdoor Shopping (11a to 5p)\n\n35+ Vendors; 
 Vinyl, Tapes, CDs, Stereos, Books/Comics, Art, Vintage Clothes,  Mu
 sic Memorabilia, Cool Stuff etc.\n\nFREE to Attend / Family Friendly / DJ
 's / Beer / Food Truck
DTSTART;TZID=America/New_York:20230122T110000
DTEND;TZID=America/New_York:20230122T170000
GEO:+39.324338;-76.610422
LAST-MODIFIED:20231124T201726Z
LOCATION:Peabody Heights Brewery, 401 E 30th St,, Baltimore, MD 21218,
  MD
RRULE:FREQ=MONTHLY;COUNT=6;INTERVAL=1;BYDAY=+4SU;BYMONTH=1,3,5,7,9,11;WKST=
 SU
SUMMARY:BRB (Baltimore Record Bazaar)
URL;TYPE=URI:https://www.baltimoreculture.org/calendar/event/33628/brb-balt
 imore-record-bazaar
X-GBCA-NID:33628
END:VEVENT
END:VCALENDAR
