BEGIN:VCALENDAR
VERSION:2.0
PRODID:-//Date iCal v2.14-dev//NONSGML kigkonsult.se iCalcreator 2.16.6//
METHOD:PUBLISH
X-WR-CALNAME;VALUE=TEXT:Greater Baltimore Cultural Alliance
BEGIN:VTIMEZONE
TZID:America/New_York
BEGIN:STANDARD
DTSTART:20231105T020000
TZOFFSETFROM:-0400
TZOFFSETTO:-0500
TZNAME:EST
END:STANDARD
BEGIN:DAYLIGHT
DTSTART:20240310T020000
TZOFFSETFROM:-0500
TZOFFSETTO:-0400
TZNAME:EDT
END:DAYLIGHT
END:VTIMEZONE
BEGIN:VEVENT
UID:calendar.33638.field_fc_date.0@www.baltimoreculture.org
DTSTAMP:20260423T075945Z
ATTACH;FMTTYPE=image/png:https://www.baltimoreculture.org/sites/default/fil
 es/event-image/21st%20AAC%20Emblem%20with%20Theme.png
CATEGORIES:Lectures/ Workshops,Professional Development
CREATED:20230718T131103Z
DESCRIPTION:Join professionals, parents and caregivers at the 21st Annual 
 Autism  Conference (#CARDAAC)! Kennedy Krieger Institute’s Center for Auti
 sm and  Related Disorders (CARD) is thrilled to host a dynamic hybrid even
 t that  offers both in-person and virtual options!
DTSTART;TZID=America/New_York:20231004T080000
DTEND;TZID=America/New_York:20231004T170000
LAST-MODIFIED:20230725T160723Z
LOCATION:Sheraton Baltimore North Hotel, 903 Dulaney Valley Road, Towson\
 , MD
SUMMARY:21st Annual Autism Conference (#CARDAAC)
URL:www.AutismConference.KennedyKrieger.org
X-GBCA-NID:33638
END:VEVENT
END:VCALENDAR
