BEGIN:VCALENDAR
VERSION:2.0
PRODID:-//Date iCal v2.14-dev//NONSGML kigkonsult.se iCalcreator 2.16.6//
METHOD:PUBLISH
X-WR-CALNAME;VALUE=TEXT:Greater Baltimore Cultural Alliance
BEGIN:VTIMEZONE
TZID:America/New_York
BEGIN:STANDARD
DTSTART:20231105T020000
TZOFFSETFROM:-0400
TZOFFSETTO:-0500
TZNAME:EST
END:STANDARD
BEGIN:DAYLIGHT
DTSTART:20240310T020000
TZOFFSETFROM:-0500
TZOFFSETTO:-0400
TZNAME:EDT
END:DAYLIGHT
END:VTIMEZONE
BEGIN:VEVENT
UID:calendar.33957.field_fc_date.0@www.baltimoreculture.org
DTSTAMP:20260422T103405Z
ATTACH;FMTTYPE=image/jpeg:https://www.baltimoreculture.org/sites/default/fi
 les/Buck-A-Roo-768x576.jpg
CATEGORIES:,Lectures/ Workshops,,Performance,Lectures/ Workshops
CREATED:20230917T223104Z
DESCRIPTION:Meet Danny Joe and his puppet pals at MCHC for a playdate! Duri
 ng this  interactive performance, we’ll saddle up with the quickest drawe
 r in the  west, a cowboy named Buck. A. Roo. Everyone feels overwhelmed s
 ometimes, so  together we’ll practice different ways to take control of c
 omplex feelings  through art, song, and dance. Giddyup, partner! Partic
 ipants will make and  take a related STEAM/SEL art project to continue the
  play at home. Suitable  for families and children 3–6 years.
DTSTART;TZID=America/New_York:20231014T110000
DTEND;TZID=America/New_York:20231014T123000
LAST-MODIFIED:20251231T001256Z
LOCATION:Maryland Center for History and Culture, 610 Park Avenue, Baltim
 ore, MD
SUMMARY:PNC Saturday Morning Puppet Theater—Danny Joe’s Tree House: Buck. A
 . Roo.
URL:https://www.mdhistory.org/calendar/pnc-saturday-morning-puppet-theater-
 danny-joes-tree-house-buck-a-roo/
X-GBCA-NID:33957
END:VEVENT
END:VCALENDAR
