BEGIN:VCALENDAR
VERSION:2.0
PRODID:-//Date iCal v2.14-dev//NONSGML kigkonsult.se iCalcreator 2.16.6//
METHOD:PUBLISH
X-WR-CALNAME;VALUE=TEXT:Greater Baltimore Cultural Alliance
BEGIN:VTIMEZONE
TZID:America/New_York
BEGIN:STANDARD
DTSTART:20241103T020000
TZOFFSETFROM:-0400
TZOFFSETTO:-0500
TZNAME:EST
END:STANDARD
BEGIN:DAYLIGHT
DTSTART:20240310T020000
TZOFFSETFROM:-0500
TZOFFSETTO:-0400
TZNAME:EDT
END:DAYLIGHT
END:VTIMEZONE
BEGIN:VEVENT
UID:calendar.34121.field_fc_date.0@www.baltimoreculture.org
DTSTAMP:20260424T181950Z
ATTACH;FMTTYPE=image/jpeg:https://www.baltimoreculture.org/sites/default/fi
 les/event-image/BirthdayBash_Photos_HarryConnolly_Nov0522-23-1.jpg
CATEGORIES:Activities
CREATED:20231004T205737Z
DESCRIPTION:First Saturdays—Every First Saturday of the month at 10:30\n\nF
 irst Saturdays is a series of free hands-on projects and activities for  c
 hildren held on the first Saturday of each month. This series will feature
   local community partners showcasing their skills in movement, storytell
 ing,  arts, tinkering, and more! 
DTSTART;TZID=America/New_York:20240203T103000
DTEND;TZID=America/New_York:20240203T113000
GEO:+39.318612;-76.615117
LAST-MODIFIED:20240124T174513Z
LOCATION:Village Learning Place, 2521 St Paul Street, Baltimiore, MD
RRULE:FREQ=WEEKLY;UNTIL=20240804T075959Z;INTERVAL=4;BYDAY=SA;WKST=SU
SUMMARY:First Saturdays
URL:https://www.villagelearningplace.org/event/first-saturdays/2023-10-07/
X-GBCA-NID:34121
END:VEVENT
END:VCALENDAR
