BEGIN:VCALENDAR
VERSION:2.0
PRODID:-//Date iCal v2.14-dev//NONSGML kigkonsult.se iCalcreator 2.16.6//
METHOD:PUBLISH
X-WR-CALNAME;VALUE=TEXT:Greater Baltimore Cultural Alliance
BEGIN:VTIMEZONE
TZID:America/New_York
BEGIN:STANDARD
DTSTART:20231105T020000
TZOFFSETFROM:-0400
TZOFFSETTO:-0500
TZNAME:EST
END:STANDARD
BEGIN:DAYLIGHT
DTSTART:20240310T020000
TZOFFSETFROM:-0500
TZOFFSETTO:-0400
TZNAME:EDT
END:DAYLIGHT
END:VTIMEZONE
BEGIN:VEVENT
UID:calendar.34190.field_fc_date.0@www.baltimoreculture.org
DTSTAMP:20260423T133308Z
ATTACH;FMTTYPE=image/jpeg:https://www.baltimoreculture.org/sites/default/fi
 les/u497/BLACK-HOLE-1-New-York-Live-Arts-Photographer-Credit_-The-Adeboye-
 Brothers.jpg
CATEGORIES:,,Performance
CREATED:20231012T182505Z
DESCRIPTION:/*BLACK HOLE – Trilogy And Triathlon*/ [1] is a multidisciplina
 ry  performance choreographed by the award-winning movement artist *Shamel
  Pitts*  [2], co-created and performed by his Brooklyn-based arts collect
 ive *TRIBE*  [3]. /BLACK HOLE/ constitutes the final installment of Pitts’
 s “BLACK  Series” triptych.\n\n\n[1] https://itsatribe.org/black-hole-tril
 ogy-and-triathlon/ [2] https://shamelpitts.com/ [3] https://itsatribe.org/
DTSTART;TZID=America/New_York:20231019T200000
DTEND;TZID=America/New_York:20231019T220000
GEO:+39.255114;-76.711196
LAST-MODIFIED:20231130T001256Z
LOCATION:UMBC Dance Cube, 1000 Hilltop Circle, Baltimore, MD
RRULE:FREQ=DAILY;UNTIL=20231021T075959Z;INTERVAL=1;WKST=SU
SUMMARY:BLACK HOLE — Trilogy And Triathlon
URL:https://umbc.edu/event/black-hole-trilogy-and-triathlon/
X-GBCA-NID:34190
END:VEVENT
END:VCALENDAR
