BEGIN:VCALENDAR
VERSION:2.0
PRODID:-//Date iCal v2.14-dev//NONSGML kigkonsult.se iCalcreator 2.16.6//
METHOD:PUBLISH
X-WR-CALNAME;VALUE=TEXT:Greater Baltimore Cultural Alliance
BEGIN:VTIMEZONE
TZID:America/New_York
BEGIN:STANDARD
DTSTART:20231105T020000
TZOFFSETFROM:-0400
TZOFFSETTO:-0500
TZNAME:EST
END:STANDARD
BEGIN:DAYLIGHT
DTSTART:20240310T020000
TZOFFSETFROM:-0500
TZOFFSETTO:-0400
TZNAME:EDT
END:DAYLIGHT
END:VTIMEZONE
BEGIN:VEVENT
UID:calendar.34269.field_fc_date.0@www.baltimoreculture.org
DTSTAMP:20260423T130215Z
ATTACH;FMTTYPE=image/jpeg:https://www.baltimoreculture.org/sites/default/fi
 les/event-image/327328957_3436153283296282_4817049285051488902_n.jpg
CATEGORIES:,,,Lectures/ Workshops,,,,Performance,Professional Devel
 opment,Lectures/ Workshops
CREATED:20231016T174101Z
DESCRIPTION:We are excited to welcome the Baltimore Lieder Weekend back to 
 An die Musik!  All events are FREE thanks to The Hampsong Foundation and F
 ree Fall  Baltimore!\n\nIn-person and livestream tickets available!\n\n- F
 riday, October 20, 7pm -\n\n7:00 PM Concert 1 – All Schumann Ryan de Ryk
 e, baritone Daniel Schlosberg, piano\n\n- Saturday, October 21, 11am -
 \n\n11:00 AM Lecture – “Grief and the Warping of Time: Brahms’ ‘In  stille
 r Nacht” Susan Youens, scholar\n\n2:00 PM Masterclass – featuring student
 s from Peabody Conservatory
DTSTART;TZID=America/New_York:20231020T190000
DTEND;TZID=America/New_York:20231020T210000
LAST-MODIFIED:20231017T154657Z
LOCATION:An Die Musik Live, 409 North Charles Street Second Floor, Baltim
 ore, MD
SUMMARY:Baltimore Lieder Weekend XIII - LiederCore: Schumann and Schubert
URL:https://andiemusiklive.com/events/
X-GBCA-NID:34269
END:VEVENT
BEGIN:VEVENT
UID:calendar.34269.field_fc_date.0@www.baltimoreculture.org
DTSTAMP:20260423T130215Z
ATTACH;FMTTYPE=image/jpeg:https://www.baltimoreculture.org/sites/default/fi
 les/event-image/327328957_3436153283296282_4817049285051488902_n.jpg
CATEGORIES:,,,Lectures/ Workshops,,,,Performance,Professional Devel
 opment,Lectures/ Workshops
CREATED:20231016T174101Z
DESCRIPTION:We are excited to welcome the Baltimore Lieder Weekend back to 
 An die Musik!  All events are FREE thanks to The Hampsong Foundation and F
 ree Fall  Baltimore!\n\nIn-person and livestream tickets available!\n\n- F
 riday, October 20, 7pm -\n\n7:00 PM Concert 1 – All Schumann Ryan de Ryk
 e, baritone Daniel Schlosberg, piano\n\n- Saturday, October 21, 11am -
 \n\n11:00 AM Lecture – “Grief and the Warping of Time: Brahms’ ‘In  stille
 r Nacht” Susan Youens, scholar\n\n2:00 PM Masterclass – featuring student
 s from Peabody Conservatory
DTSTART;TZID=America/New_York:20231021T110000
DTEND;TZID=America/New_York:20231021T130000
LAST-MODIFIED:20231017T154657Z
LOCATION:An Die Musik Live, 409 North Charles Street Second Floor, Baltim
 ore, MD
SUMMARY:Baltimore Lieder Weekend XIII - LiederCore: Schumann and Schubert
URL:https://andiemusiklive.com/events/
X-GBCA-NID:34269
END:VEVENT
BEGIN:VEVENT
UID:calendar.34269.field_fc_date.0@www.baltimoreculture.org
DTSTAMP:20260423T130215Z
ATTACH;FMTTYPE=image/jpeg:https://www.baltimoreculture.org/sites/default/fi
 les/event-image/327328957_3436153283296282_4817049285051488902_n.jpg
CATEGORIES:,,,Lectures/ Workshops,,,,Performance,Professional Devel
 opment,Lectures/ Workshops
CREATED:20231016T174101Z
DESCRIPTION:We are excited to welcome the Baltimore Lieder Weekend back to 
 An die Musik!  All events are FREE thanks to The Hampsong Foundation and F
 ree Fall  Baltimore!\n\nIn-person and livestream tickets available!\n\n- F
 riday, October 20, 7pm -\n\n7:00 PM Concert 1 – All Schumann Ryan de Ryk
 e, baritone Daniel Schlosberg, piano\n\n- Saturday, October 21, 11am -
 \n\n11:00 AM Lecture – “Grief and the Warping of Time: Brahms’ ‘In  stille
 r Nacht” Susan Youens, scholar\n\n2:00 PM Masterclass – featuring student
 s from Peabody Conservatory
DTSTART;TZID=America/New_York:20231021T140000
DTEND;TZID=America/New_York:20231021T160000
LAST-MODIFIED:20231017T154657Z
LOCATION:An Die Musik Live, 409 North Charles Street Second Floor, Baltim
 ore, MD
SUMMARY:Baltimore Lieder Weekend XIII - LiederCore: Schumann and Schubert
URL:https://andiemusiklive.com/events/
X-GBCA-NID:34269
END:VEVENT
BEGIN:VEVENT
UID:calendar.34269.field_fc_date.0@www.baltimoreculture.org
DTSTAMP:20260423T130215Z
ATTACH;FMTTYPE=image/jpeg:https://www.baltimoreculture.org/sites/default/fi
 les/event-image/327328957_3436153283296282_4817049285051488902_n.jpg
CATEGORIES:,,,Lectures/ Workshops,,,,Performance,Professional Devel
 opment,Lectures/ Workshops
CREATED:20231016T174101Z
DESCRIPTION:We are excited to welcome the Baltimore Lieder Weekend back to 
 An die Musik!  All events are FREE thanks to The Hampsong Foundation and F
 ree Fall  Baltimore!\n\nIn-person and livestream tickets available!\n\n- F
 riday, October 20, 7pm -\n\n7:00 PM Concert 1 – All Schumann Ryan de Ryk
 e, baritone Daniel Schlosberg, piano\n\n- Saturday, October 21, 11am -
 \n\n11:00 AM Lecture – “Grief and the Warping of Time: Brahms’ ‘In  stille
 r Nacht” Susan Youens, scholar\n\n2:00 PM Masterclass – featuring student
 s from Peabody Conservatory
DTSTART;TZID=America/New_York:20231022T150000
DTEND;TZID=America/New_York:20231022T170000
LAST-MODIFIED:20231017T154657Z
LOCATION:An Die Musik Live, 409 North Charles Street Second Floor, Baltim
 ore, MD
SUMMARY:Baltimore Lieder Weekend XIII - LiederCore: Schumann and Schubert
URL:https://andiemusiklive.com/events/
X-GBCA-NID:34269
END:VEVENT
END:VCALENDAR
