BEGIN:VCALENDAR
VERSION:2.0
PRODID:-//Date iCal v2.14-dev//NONSGML kigkonsult.se iCalcreator 2.16.6//
METHOD:PUBLISH
X-WR-CALNAME;VALUE=TEXT:Greater Baltimore Cultural Alliance
BEGIN:VTIMEZONE
TZID:America/New_York
BEGIN:STANDARD
DTSTART:20231105T020000
TZOFFSETFROM:-0400
TZOFFSETTO:-0500
RDATE:20241103T020000
TZNAME:EST
END:STANDARD
BEGIN:DAYLIGHT
DTSTART:20240310T020000
TZOFFSETFROM:-0500
TZOFFSETTO:-0400
TZNAME:EDT
END:DAYLIGHT
END:VTIMEZONE
BEGIN:VEVENT
UID:calendar.34338.field_fc_date.0@www.baltimoreculture.org
DTSTAMP:20260422T155548Z
ATTACH;FMTTYPE=image/jpeg:https://www.baltimoreculture.org/sites/default/fi
 les/csm_Christmas_Village_in_Baltimore_Main_Picture_ef7664934c.jpg
CATEGORIES:,,,,Activities,Outdoors
CREATED:20231027T155724Z
DESCRIPTION:Time: 3:30pm to 5:00pm\n\nJoin us on November 25, 2023, at 3:
 30 PM, as the original Christkind from  Nuremberg arrives by boat at Balt
 imore’s Inner Harbor. The Christkind will  walk down the promenade, accom
 panied by the Raven's Tent, creating a magical  atmosphere. At 4:00 PM, 
 our Opening Ceremony begins in our heated tent. The  Ceremony will include
  the Christkind’s iconic prologue as well as an  enchanting performance by
  the Reservoir High School Chamber Choir.
DTSTART;TZID=America/New_York:20231125T153000
DTEND;TZID=America/New_York:20231125T170000
GEO:+39.283353;-76.612894
LAST-MODIFIED:20231122T044041Z
LOCATION:Inner Harbor - West Shore Park, 501 Light Street, Baltimore, MD
SUMMARY:Opening Ceremony at Christmas Village in Baltimore
URL:www.baltimore-christmas.com
X-GBCA-NID:34338
END:VEVENT
END:VCALENDAR
