BEGIN:VCALENDAR
VERSION:2.0
PRODID:-//Date iCal v2.14-dev//NONSGML kigkonsult.se iCalcreator 2.16.6//
METHOD:PUBLISH
X-WR-CALNAME;VALUE=TEXT:Greater Baltimore Cultural Alliance
BEGIN:VTIMEZONE
TZID:America/New_York
BEGIN:STANDARD
DTSTART:20231105T020000
TZOFFSETFROM:-0400
TZOFFSETTO:-0500
RDATE:20241103T020000
TZNAME:EST
END:STANDARD
BEGIN:DAYLIGHT
DTSTART:20240310T020000
TZOFFSETFROM:-0500
TZOFFSETTO:-0400
TZNAME:EDT
END:DAYLIGHT
END:VTIMEZONE
BEGIN:VEVENT
UID:calendar.34441.field_fc_date.0@www.baltimoreculture.org
DTSTAMP:20260423T203126Z
ATTACH;FMTTYPE=image/jpeg:https://www.baltimoreculture.org/sites/default/fi
 les/event-image/345603622_529720869165492_8144145151468283901_n.jpg
CATEGORIES:,,,,Nightlife,Performance,
CREATED:20231103T184939Z
DESCRIPTION:The Brandon Born Quartet features new compositions written for 
 them, along  with those by Kevin Eubanks, Tadd Dameron, and Larry Willi
 s. This group's  history of playing together is reflected in their chemist
 ry and interaction.  Don't miss Brandon's special debut as a leader!\n\nBr
 andon Born, electric guitar Brendan Brady, drums Christian Hizon, tromb
 one Jeff Reed, bass
DTSTART;TZID=America/New_York:20231121T190000
DTEND;TZID=America/New_York:20231121T210000
LAST-MODIFIED:20231107T155250Z
LOCATION:An Die Musik Live, 409 North Charles Street Second Floor, Baltim
 ore, MD
SUMMARY:Brandon Born Quartet
URL:https://www.instantseats.com/?fuseaction=home.artist&VenueID=321&artist
 id=25760
X-GBCA-NID:34441
END:VEVENT
END:VCALENDAR
