BEGIN:VCALENDAR
VERSION:2.0
PRODID:-//Date iCal v2.14-dev//NONSGML kigkonsult.se iCalcreator 2.16.6//
METHOD:PUBLISH
X-WR-CALNAME;VALUE=TEXT:Greater Baltimore Cultural Alliance
BEGIN:VTIMEZONE
TZID:America/New_York
BEGIN:STANDARD
DTSTART:20231105T020000
TZOFFSETFROM:-0400
TZOFFSETTO:-0500
RDATE:20241103T020000
TZNAME:EST
END:STANDARD
BEGIN:DAYLIGHT
DTSTART:20240310T020000
TZOFFSETFROM:-0500
TZOFFSETTO:-0400
TZNAME:EDT
END:DAYLIGHT
END:VTIMEZONE
BEGIN:VEVENT
UID:calendar.34442.field_fc_date.0@www.baltimoreculture.org
DTSTAMP:20260424T102507Z
ATTACH;FMTTYPE=image/jpeg:https://www.baltimoreculture.org/sites/default/fi
 les/event-image/download.jpeg
CATEGORIES:,,,,Nightlife,Performance,
CREATED:20231103T190009Z
DESCRIPTION:Grammy award-winning violinist and producer Johnny Gandelsman's
  musical voice  reflects the artistic collaborations he has been a part of
  since moving to  the United States in 1995. Richard Brody of The New York
 er has called Johnny  Gandelsman “revelatory” in concert, placing him in 
 the company of  “radically transformative” performers like Maurizio Pollin
 i, Peter Serkin  and Christian Zacharias.
DTSTART;TZID=America/New_York:20231122T190000
DTEND;TZID=America/New_York:20231122T210000
LAST-MODIFIED:20231107T155250Z
LOCATION:An Die Musik Live, 409 North Charles Street Second Floor, Baltim
 ore, MD
SUMMARY:Johnny Gandelsman performs Bach's Cello Suites
URL:https://www.instantseats.com/?fuseaction=home.artist&VenueID=321&artist
 id=25766
X-GBCA-NID:34442
END:VEVENT
END:VCALENDAR
