BEGIN:VCALENDAR
VERSION:2.0
PRODID:-//Date iCal v2.14-dev//NONSGML kigkonsult.se iCalcreator 2.16.6//
METHOD:PUBLISH
X-WR-CALNAME;VALUE=TEXT:Greater Baltimore Cultural Alliance
BEGIN:VTIMEZONE
TZID:America/New_York
BEGIN:STANDARD
DTSTART:20241103T020000
TZOFFSETFROM:-0400
TZOFFSETTO:-0500
TZNAME:EST
END:STANDARD
BEGIN:DAYLIGHT
DTSTART:20240310T020000
TZOFFSETFROM:-0500
TZOFFSETTO:-0400
TZNAME:EDT
END:DAYLIGHT
END:VTIMEZONE
BEGIN:VEVENT
UID:calendar.34944.field_fc_date.0@www.baltimoreculture.org
DTSTAMP:20260425T120118Z
ATTACH;FMTTYPE=image/png:https://www.baltimoreculture.org/sites/default/fil
 es/Screenshot%202024-01-22%20at%209.21.11%20PM.png
CATEGORIES:Lectures/ Workshops,Activities
CREATED:20240123T022220Z
DESCRIPTION:Have you been interested in calligraphy but aren’t sure how to 
 get started?  Join Brittany DeNovellis from Novel Letter Studio for an int
 roduction to  fundamentals of modern calligraphy, using a brush pen. This
  2-part workshop  series will teach you about the supplies you can use, t
 he basic shapes you  need to know to get started, and how to combine thos
 e shapes into letters and  words. After the class, you’ll take home your 
 workbook and pens for your  ongoing practice.
DTSTART;TZID=America/New_York:20240229T183000
DTEND;TZID=America/New_York:20240229T203000
GEO:+39.286736;-76.571783
LAST-MODIFIED:20240831T001256Z
LOCATION:Creative Alliance , 3134 Eastern Avenue, Baltimore, MD
SUMMARY:CAN YOU BRUSH IT? INTRODUCTION TO MODERN PEN CALLIGRAPHY
URL:https://creativealliance.org/event/can-you-brush-it-intro-to-modern-pen
 -calligraphy/2024-02-29/
X-GBCA-NID:34944
END:VEVENT
BEGIN:VEVENT
UID:calendar.34944.field_fc_date.0@www.baltimoreculture.org
DTSTAMP:20260425T120118Z
ATTACH;FMTTYPE=image/png:https://www.baltimoreculture.org/sites/default/fil
 es/Screenshot%202024-01-22%20at%209.21.11%20PM.png
CATEGORIES:Lectures/ Workshops,Activities
CREATED:20240123T022220Z
DESCRIPTION:Have you been interested in calligraphy but aren’t sure how to 
 get started?  Join Brittany DeNovellis from Novel Letter Studio for an int
 roduction to  fundamentals of modern calligraphy, using a brush pen. This
  2-part workshop  series will teach you about the supplies you can use, t
 he basic shapes you  need to know to get started, and how to combine thos
 e shapes into letters and  words. After the class, you’ll take home your 
 workbook and pens for your  ongoing practice.
DTSTART;TZID=America/New_York:20240301T183000
DTEND;TZID=America/New_York:20240301T203000
GEO:+39.286736;-76.571783
LAST-MODIFIED:20240831T001256Z
LOCATION:Creative Alliance , 3134 Eastern Avenue, Baltimore, MD
SUMMARY:CAN YOU BRUSH IT? INTRODUCTION TO MODERN PEN CALLIGRAPHY
URL:https://creativealliance.org/event/can-you-brush-it-intro-to-modern-pen
 -calligraphy/2024-02-29/
X-GBCA-NID:34944
END:VEVENT
END:VCALENDAR
