BEGIN:VCALENDAR
VERSION:2.0
PRODID:-//Date iCal v2.14-dev//NONSGML kigkonsult.se iCalcreator 2.16.6//
METHOD:PUBLISH
X-WR-CALNAME;VALUE=TEXT:Greater Baltimore Cultural Alliance
BEGIN:VTIMEZONE
TZID:America/New_York
BEGIN:STANDARD
DTSTART:20241103T020000
TZOFFSETFROM:-0400
TZOFFSETTO:-0500
TZNAME:EST
END:STANDARD
BEGIN:DAYLIGHT
DTSTART:20240310T020000
TZOFFSETFROM:-0500
TZOFFSETTO:-0400
TZNAME:EDT
END:DAYLIGHT
END:VTIMEZONE
BEGIN:VEVENT
UID:calendar.34945.field_fc_date.0@www.baltimoreculture.org
DTSTAMP:20260424T035633Z
ATTACH;FMTTYPE=image/png:https://www.baltimoreculture.org/sites/default/fil
 es/Screenshot%202024-01-22%20at%209.25.52%20PM.png
CATEGORIES:Exhibition
CREATED:20240123T022629Z
DESCRIPTION:Step into the vibrant and lively world of everyday people and p
 laces in  Baltimore through the eyes of our former resident artist, Jason
  Austin.  /Baltimore In Repose/ invites you to explore the dynamic and div
 erse  narratives of our city. Each piece serves as a window into the lives
  of  friends, places, and loved ones, on a color spectrum that articula
 tes the joy  and vibrancy of Baltimore. As you navigate through the exhibi
 tion, you’ll  discover a modern twist to the traditional art-viewing expe
 rience.
DTSTART;TZID=America/New_York:20240301T180000
DTEND;TZID=America/New_York:20240413T210000
GEO:+39.286736;-76.571783
LAST-MODIFIED:20240831T001256Z
LOCATION:Creative Alliance , 3134 Eastern Avenue, Baltimore, MD
SUMMARY:JASON AUSTIN: BALTIMORE IN REPOSE EXHIBITION
URL:https://creativealliance.org/event/jason-austin-baltimore-in-repose-exh
 ibition/
X-GBCA-NID:34945
END:VEVENT
END:VCALENDAR
