BEGIN:VCALENDAR
VERSION:2.0
PRODID:-//Date iCal v2.14-dev//NONSGML kigkonsult.se iCalcreator 2.16.6//
METHOD:PUBLISH
X-WR-CALNAME;VALUE=TEXT:Greater Baltimore Cultural Alliance
BEGIN:VTIMEZONE
TZID:America/New_York
BEGIN:STANDARD
DTSTART:20241103T020000
TZOFFSETFROM:-0400
TZOFFSETTO:-0500
TZNAME:EST
END:STANDARD
BEGIN:DAYLIGHT
DTSTART:20240310T020000
TZOFFSETFROM:-0500
TZOFFSETTO:-0400
RDATE:20250309T020000
TZNAME:EDT
END:DAYLIGHT
END:VTIMEZONE
BEGIN:VEVENT
UID:calendar.34994.field_fc_date.0@www.baltimoreculture.org
DTSTAMP:20260422T102059Z
ATTACH;FMTTYPE=image/jpeg:https://www.baltimoreculture.org/sites/default/fi
 les/event-image/MHGCS%20Spring%202024%20square%20banner.jpg
CATEGORIES:Exhibition
CREATED:20240125T182252Z
DESCRIPTION:Inspiration for spring cleaning, long-awaited renovations, re
 laxing outdoor  living and easy entertaining begin at the annual Spring Ma
 ryland Home &  Garden + Craft Show! Over 400 exhibitors and home professio
 nals offer  transformative tips and popular products for any home project.
  Ten  professionally-designed gardens - some as large as 40’ x 40’ - overf
 low  with lush plantings, patios, hardscapes, and dramatic water featur
 es.
DTSTART;TZID=America/New_York:20240302T100000
DTEND;TZID=America/New_York:20240303T180000
GEO:+39.447238;-76.630336
LAST-MODIFIED:20240128T194747Z
LOCATION:Maryland State Fairgrounds, 2200 York Road, Timonium, MD
SUMMARY:Maryland Spring Home & Garden + Craft Show
URL:https://www.mdfallhomeandgarden.com/
X-GBCA-NID:34994
END:VEVENT
BEGIN:VEVENT
UID:calendar.34994.field_fc_date.0@www.baltimoreculture.org
DTSTAMP:20260422T102059Z
ATTACH;FMTTYPE=image/jpeg:https://www.baltimoreculture.org/sites/default/fi
 les/event-image/MHGCS%20Spring%202024%20square%20banner.jpg
CATEGORIES:Exhibition
CREATED:20240125T182252Z
DESCRIPTION:Inspiration for spring cleaning, long-awaited renovations, re
 laxing outdoor  living and easy entertaining begin at the annual Spring Ma
 ryland Home &  Garden + Craft Show! Over 400 exhibitors and home professio
 nals offer  transformative tips and popular products for any home project.
  Ten  professionally-designed gardens - some as large as 40’ x 40’ - overf
 low  with lush plantings, patios, hardscapes, and dramatic water featur
 es.
DTSTART;TZID=America/New_York:20240308T100000
DTEND;TZID=America/New_York:20240310T180000
GEO:+39.447238;-76.630336
LAST-MODIFIED:20240128T194747Z
LOCATION:Maryland State Fairgrounds, 2200 York Road, Timonium, MD
SUMMARY:Maryland Spring Home & Garden + Craft Show
URL:https://www.mdfallhomeandgarden.com/
X-GBCA-NID:34994
END:VEVENT
END:VCALENDAR
