BEGIN:VCALENDAR
VERSION:2.0
PRODID:-//Date iCal v2.14-dev//NONSGML kigkonsult.se iCalcreator 2.16.6//
METHOD:PUBLISH
X-WR-CALNAME;VALUE=TEXT:Greater Baltimore Cultural Alliance
BEGIN:VTIMEZONE
TZID:America/New_York
BEGIN:STANDARD
DTSTART:20241103T020000
TZOFFSETFROM:-0400
TZOFFSETTO:-0500
TZNAME:EST
END:STANDARD
BEGIN:DAYLIGHT
DTSTART:20250309T020000
TZOFFSETFROM:-0500
TZOFFSETTO:-0400
TZNAME:EDT
END:DAYLIGHT
END:VTIMEZONE
BEGIN:VEVENT
UID:calendar.35180.field_fc_date.0@www.baltimoreculture.org
DTSTAMP:20260423T221728Z
ATTACH;FMTTYPE=image/png:https://www.baltimoreculture.org/sites/default/fil
 es/Screenshot%202024-02-16%20at%2012.10.38%20AM.png
CATEGORIES:Activities,Outdoors
CREATED:20240216T051150Z
DESCRIPTION:Presented by Creative Alliance & The Friends of Patterson Park 
 Saturday, October 26, 2024 | Rain Date: Sunday, October 27, 2024\n\nPa
 tterson Park – Pulaski Monument *4pm Festival, 6:30pm Parade Line-up, 7p
 m Parade* *Kids & Family Costume Contest:* Registration for kids and famil
 ies begins at  3:30pm, Contest begins at 4:30pm
DTSTART;TZID=America/New_York:20241026T160000
DTEND;TZID=America/New_York:20241026T200000
GEO:+39.286736;-76.571783
LAST-MODIFIED:20240831T001256Z
LOCATION:Creative Alliance , 3134 Eastern Avenue, Baltimore, MD
SUMMARY:THE GREAT HALLOWEEN LANTERN PARADE & FESTIVAL – 2024
URL:https://creativealliance.org/event/the-great-halloween-lantern-parade-f
 estival-2024/
X-GBCA-NID:35180
END:VEVENT
END:VCALENDAR
