BEGIN:VCALENDAR
VERSION:2.0
PRODID:-//Date iCal v2.14-dev//NONSGML kigkonsult.se iCalcreator 2.16.6//
METHOD:PUBLISH
X-WR-CALNAME;VALUE=TEXT:Greater Baltimore Cultural Alliance
BEGIN:VTIMEZONE
TZID:America/New_York
BEGIN:STANDARD
DTSTART:20241103T020000
TZOFFSETFROM:-0400
TZOFFSETTO:-0500
TZNAME:EST
END:STANDARD
BEGIN:DAYLIGHT
DTSTART:20240310T020000
TZOFFSETFROM:-0500
TZOFFSETTO:-0400
TZNAME:EDT
END:DAYLIGHT
END:VTIMEZONE
BEGIN:VEVENT
UID:calendar.35183.field_fc_date.0@www.baltimoreculture.org
DTSTAMP:20260424T054017Z
ATTACH;FMTTYPE=image/png:https://www.baltimoreculture.org/sites/default/fil
 es/Screenshot%202024-02-16%20at%2012.24.59%20AM.png
CATEGORIES:Performance
CREATED:20240216T052537Z
DESCRIPTION:Sourcing from her 11 years living in Addis Ababa, Hostetter tr
 ansports you to  the bustling streets of the East African metropolis, evo
 king the crackling  sounds of a saxophone blaring out of a barbershop radi
 o, a shepherd's flute  melody turned dub reggae, the fervent dancing on 
 packed dirt floors of a  rural honey-wine bar, and the funky big band psy
 chedelic sounds of Ethiopia's  'Golden Era'.
DTSTART;TZID=America/New_York:20240303T190000
DTEND;TZID=America/New_York:20240303T220000
LAST-MODIFIED:20240216T052537Z
LOCATION:Le Mondo, 406 North Howard Street, Baltimore, MD
SUMMARY:Impressions of Ethiopia
URL:https://www.lemondo.org/events/music-impressions-of-ethiopia
X-GBCA-NID:35183
END:VEVENT
END:VCALENDAR
