BEGIN:VCALENDAR
VERSION:2.0
PRODID:-//Date iCal v2.14-dev//NONSGML kigkonsult.se iCalcreator 2.16.6//
METHOD:PUBLISH
X-WR-CALNAME;VALUE=TEXT:Greater Baltimore Cultural Alliance
BEGIN:VTIMEZONE
TZID:America/New_York
BEGIN:STANDARD
DTSTART:20241103T020000
TZOFFSETFROM:-0400
TZOFFSETTO:-0500
TZNAME:EST
END:STANDARD
BEGIN:DAYLIGHT
DTSTART:20240310T020000
TZOFFSETFROM:-0500
TZOFFSETTO:-0400
TZNAME:EDT
END:DAYLIGHT
END:VTIMEZONE
BEGIN:VEVENT
UID:calendar.35211.field_fc_date.0@www.baltimoreculture.org
DTSTAMP:20260422T215136Z
ATTACH;FMTTYPE=image/jpeg:https://www.baltimoreculture.org/sites/default/fi
 les/event-image/20230331_MUSIC_Gotoff.jpg
CATEGORIES:Performance,Other
CREATED:20240216T182124Z
DESCRIPTION:Towson University faculty member Joseph Gotoff, cellist, and 
 pianist Wan-Chi  Su present a program of works by all-female composers. Sp
 anning over 150  years and diverse musical styles, this program emphasize
 s the creativity and  genius of a group of composers that have historicall
 y been marginalized. The  program also includes a world premiere of a work
  for cello and piano by  Boston-based composer Binna Kim.
DTSTART;TZID=America/New_York:20240302T193000
DTEND;TZID=America/New_York:20240302T213000
GEO:+39.390922;-76.612522
LAST-MODIFIED:20240220T161910Z
LOCATION:Towson University Center For The Arts, 1 Fine Arts Drive, towson
 , MD
SUMMARY:Faculty Recital | Joseph Gotoff
URL:https://tickets.tuboxoffice.com/eventperformances.asp?evt=180
X-GBCA-NID:35211
END:VEVENT
END:VCALENDAR
