BEGIN:VCALENDAR
VERSION:2.0
PRODID:-//Date iCal v2.14-dev//NONSGML kigkonsult.se iCalcreator 2.16.6//
METHOD:PUBLISH
X-WR-CALNAME;VALUE=TEXT:Greater Baltimore Cultural Alliance
BEGIN:VTIMEZONE
TZID:America/New_York
BEGIN:STANDARD
DTSTART:20241103T020000
TZOFFSETFROM:-0400
TZOFFSETTO:-0500
TZNAME:EST
END:STANDARD
BEGIN:DAYLIGHT
DTSTART:20240310T020000
TZOFFSETFROM:-0500
TZOFFSETTO:-0400
TZNAME:EDT
END:DAYLIGHT
END:VTIMEZONE
BEGIN:VEVENT
UID:calendar.35309.field_fc_date.0@www.baltimoreculture.org
DTSTAMP:20260423T155955Z
ATTACH;FMTTYPE=image/jpeg:https://www.baltimoreculture.org/sites/default/fi
 les/event-image/1707864988466_mobileLarge.jpg
CATEGORIES:Performance,Nightlife
CREATED:20240223T182520Z
DESCRIPTION:Join guitarists Joscho Stephan & Sven Jungbeck for a swingin' n
 ight of django  jazz at An die Musik Live!
DTSTART;TZID=America/New_York:20240307T190000
DTEND;TZID=America/New_York:20240307T210000
LAST-MODIFIED:20240227T164657Z
LOCATION:An Die Musik Live, 409 North Charles Street Second Floor, Baltim
 ore, MD
SUMMARY:Joscho Stephan & Sven Jungbeck 'Swinging Strings'
URL:https://www.instantseats.com/?fuseaction=home.artist&VenueID=321&artist
 id=26223
X-GBCA-NID:35309
END:VEVENT
END:VCALENDAR
