BEGIN:VCALENDAR
VERSION:2.0
PRODID:-//Date iCal v2.14-dev//NONSGML kigkonsult.se iCalcreator 2.16.6//
METHOD:PUBLISH
X-WR-CALNAME;VALUE=TEXT:Greater Baltimore Cultural Alliance
BEGIN:VTIMEZONE
TZID:America/New_York
BEGIN:STANDARD
DTSTART:20241103T020000
TZOFFSETFROM:-0400
TZOFFSETTO:-0500
TZNAME:EST
END:STANDARD
BEGIN:DAYLIGHT
DTSTART:20240310T020000
TZOFFSETFROM:-0500
TZOFFSETTO:-0400
RDATE:20250309T020000
TZNAME:EDT
END:DAYLIGHT
END:VTIMEZONE
BEGIN:VEVENT
UID:calendar.35388.field_fc_date.0@www.baltimoreculture.org
DTSTAMP:20260422T154509Z
ATTACH;FMTTYPE=image/jpeg:https://www.baltimoreculture.org/sites/default/fi
 les/IMG_7351.jpg
CATEGORIES:Activities
CREATED:20240302T185156Z
DESCRIPTION:OpenMic is a monthly free community event where we encourage vi
 sitors to  share their talents with their peers.
DTSTART;TZID=America/New_York:20240306T170000
DTEND;TZID=America/New_York:20240306T200000
GEO:+39.306101;-76.608916
LAST-MODIFIED:20240402T153550Z
LOCATION:Open Works, 1400 Greenmount Ave, Baltimore, MD
SUMMARY:Open Mic Night
URL:https://www.openworksbmore.org/schedule/
X-GBCA-NID:35388
END:VEVENT
BEGIN:VEVENT
UID:calendar.35388.field_fc_date.0@www.baltimoreculture.org
DTSTAMP:20260422T154509Z
ATTACH;FMTTYPE=image/jpeg:https://www.baltimoreculture.org/sites/default/fi
 les/IMG_7351.jpg
CATEGORIES:Activities
CREATED:20240302T185156Z
DESCRIPTION:OpenMic is a monthly free community event where we encourage vi
 sitors to  share their talents with their peers.
DTSTART;TZID=America/New_York:20240403T170000
DTEND;TZID=America/New_York:20240403T200000
GEO:+39.306101;-76.608916
LAST-MODIFIED:20240402T153550Z
LOCATION:Open Works, 1400 Greenmount Ave, Baltimore, MD
SUMMARY:Open Mic Night
URL:https://www.openworksbmore.org/schedule/
X-GBCA-NID:35388
END:VEVENT
BEGIN:VEVENT
UID:calendar.35388.field_fc_date.0@www.baltimoreculture.org
DTSTAMP:20260422T154509Z
ATTACH;FMTTYPE=image/jpeg:https://www.baltimoreculture.org/sites/default/fi
 les/IMG_7351.jpg
CATEGORIES:Activities
CREATED:20240302T185156Z
DESCRIPTION:OpenMic is a monthly free community event where we encourage vi
 sitors to  share their talents with their peers.
DTSTART;TZID=America/New_York:20240501T170000
DTEND;TZID=America/New_York:20240501T200000
GEO:+39.306101;-76.608916
LAST-MODIFIED:20240402T153550Z
LOCATION:Open Works, 1400 Greenmount Ave, Baltimore, MD
SUMMARY:Open Mic Night
URL:https://www.openworksbmore.org/schedule/
X-GBCA-NID:35388
END:VEVENT
END:VCALENDAR
