BEGIN:VCALENDAR
VERSION:2.0
PRODID:-//Date iCal v2.14-dev//NONSGML kigkonsult.se iCalcreator 2.16.6//
METHOD:PUBLISH
X-WR-CALNAME;VALUE=TEXT:Greater Baltimore Cultural Alliance
BEGIN:VTIMEZONE
TZID:America/New_York
BEGIN:STANDARD
DTSTART:20241103T020000
TZOFFSETFROM:-0400
TZOFFSETTO:-0500
TZNAME:EST
END:STANDARD
BEGIN:DAYLIGHT
DTSTART:20250309T020000
TZOFFSETFROM:-0500
TZOFFSETTO:-0400
TZNAME:EDT
END:DAYLIGHT
END:VTIMEZONE
BEGIN:VEVENT
UID:calendar.35416.field_fc_date.0@www.baltimoreculture.org
DTSTAMP:20260424T150224Z
ATTACH;FMTTYPE=image/jpeg:https://www.baltimoreculture.org/sites/default/fi
 les/3f8108b6be94c7e4faeb6990567f3125_0.jpg
CATEGORIES:Activities,History & Heritage,Outdoors
CREATED:20240302T205951Z
DESCRIPTION:Baltimoreans celebrated atop Federal Hill when we ratified the 
 U.S.  Constitution. We used it to defend the city from the British in the 
 War of  1812 and to make sure we stayed in the Union in the Civil War. We 
 have even  tunnelled under it to quarry minerals. Join us on a tour of Fed
 eral Hill and  the neighborhood around it to learn about this waterfront c
 ommunity’s rich  history, including stops at one of the last wooden house
 s in the city, the  oldest house in Federal Hill, and the wonderful alle
 y houses along Churchill  Street.
DTSTART;TZID=America/New_York:20240421T093000
DTEND;TZID=America/New_York:20240421T103000
GEO:+39.278894;-76.609849
LAST-MODIFIED:20240831T001256Z
LOCATION:Federal Hill Park (Southwest Corner), 301 Warren Avenue, Baltimo
 re, MD
SUMMARY:Federal Hill Beyond the Views: A Monumental City Tour
URL:https://baltimoreheritage.org/event/federal-hill-beyond-the-views-a-mon
 umental-city-tour-22/
X-GBCA-NID:35416
END:VEVENT
END:VCALENDAR
