BEGIN:VCALENDAR
VERSION:2.0
PRODID:-//Date iCal v2.14-dev//NONSGML kigkonsult.se iCalcreator 2.16.6//
METHOD:PUBLISH
X-WR-CALNAME;VALUE=TEXT:Greater Baltimore Cultural Alliance
BEGIN:VTIMEZONE
TZID:America/New_York
BEGIN:STANDARD
DTSTART:20241103T020000
TZOFFSETFROM:-0400
TZOFFSETTO:-0500
TZNAME:EST
END:STANDARD
BEGIN:DAYLIGHT
DTSTART:20250309T020000
TZOFFSETFROM:-0500
TZOFFSETTO:-0400
TZNAME:EDT
END:DAYLIGHT
END:VTIMEZONE
BEGIN:VEVENT
UID:calendar.35456.field_fc_date.0@www.baltimoreculture.org
DTSTAMP:20260424T000319Z
ATTACH;FMTTYPE=image/png:https://www.baltimoreculture.org/sites/default/fil
 es/event-image/FeelGood5k_Social_tw_1600x900__0.png
CATEGORIES:Activities,Outdoors
CREATED:20240311T141829Z
DESCRIPTION:Join Sheppard Pratt Saturday, April 27, 2024, as we bring ba
 ck the Feel Good  5K & Fun Run for our second annual event! Grab your fami
 ly and friends, lace  up your sneakers, and join us to promote mental he
 alth awareness while  enjoying a run/walk through our Towson campus and su
 rrounding neighborhoods.  Celebrate at the finish line with music, kid-fr
 iendly activities, and more!
DTSTART;TZID=America/New_York:20240427T080000
DTEND;TZID=America/New_York:20240427T120000
GEO:+39.391034;-76.619798
LAST-MODIFIED:20240311T203123Z
LOCATION:Sheppard Pratt Towson Campus , 6501 N. Charles Street, Baltimore
 , MD
SUMMARY:Sheppard Pratt Feel Good 5K & Fun Run
URL:https://www.sheppardpratt.org/feelgood5k/
X-GBCA-NID:35456
END:VEVENT
END:VCALENDAR
