BEGIN:VCALENDAR
VERSION:2.0
PRODID:-//Date iCal v2.14-dev//NONSGML kigkonsult.se iCalcreator 2.16.6//
METHOD:PUBLISH
X-WR-CALNAME;VALUE=TEXT:Greater Baltimore Cultural Alliance
BEGIN:VTIMEZONE
TZID:America/New_York
BEGIN:STANDARD
DTSTART:20241103T020000
TZOFFSETFROM:-0400
TZOFFSETTO:-0500
TZNAME:EST
END:STANDARD
BEGIN:DAYLIGHT
DTSTART:20240310T020000
TZOFFSETFROM:-0500
TZOFFSETTO:-0400
RDATE:20250309T020000
TZNAME:EDT
END:DAYLIGHT
END:VTIMEZONE
BEGIN:VEVENT
UID:calendar.35500.field_fc_date.0@www.baltimoreculture.org
DTSTAMP:20260422T103345Z
ATTACH;FMTTYPE=image/png:https://www.baltimoreculture.org/sites/default/fil
 es/event-image/Screenshot%202024-03-17%20at%2010.05.37%E2%80%AFPM.png
CATEGORIES:Performance
CREATED:20240318T020712Z
DESCRIPTION:Join us for world-class chamber music in Baltimore! The Candlel
 ight Concert  Society is thrilled to partner with The Peale for a new conc
 ert series,  Candlelight at The Peale. Featuring intimate chamber music a
 nd chats with the  artists.\n\nLauded for her “remarkable mastery of her i
 nstrument” (CVNC), New  Zealand-born violinist Geneva Lewis is establishi
 ng herself as one of the  most promising young talents on the global stage
 .\n\nShe will be joined by the award-winning cellist Gabriel Martins, who
  is  praised as “one of the most exciting artists of his generation” (92NY
 ).
DTSTART;TZID=America/New_York:20240407T150000
DTEND;TZID=America/New_York:20240407T160000
GEO:+39.291844;-76.610129
LAST-MODIFIED:20240319T184728Z
LOCATION:The Peale Center for Baltimore History and Architecture, 225 Holl
 iday Street, Baltimore, MD
SUMMARY:Candlelight Concert Society Series: Geneva Lewis & Gabriel Martins
URL:https://www.thepeale.org/event/candlelight-concert-series-geneva-lewis-
 gabriel-martins/
X-GBCA-NID:35500
END:VEVENT
END:VCALENDAR
