BEGIN:VCALENDAR
VERSION:2.0
PRODID:-//Date iCal v2.14-dev//NONSGML kigkonsult.se iCalcreator 2.16.6//
METHOD:PUBLISH
X-WR-CALNAME;VALUE=TEXT:Greater Baltimore Cultural Alliance
BEGIN:VTIMEZONE
TZID:America/New_York
BEGIN:STANDARD
DTSTART:20241103T020000
TZOFFSETFROM:-0400
TZOFFSETTO:-0500
TZNAME:EST
END:STANDARD
BEGIN:DAYLIGHT
DTSTART:20250309T020000
TZOFFSETFROM:-0500
TZOFFSETTO:-0400
TZNAME:EDT
END:DAYLIGHT
END:VTIMEZONE
BEGIN:VEVENT
UID:calendar.35553.field_fc_date.0@www.baltimoreculture.org
DTSTAMP:20260423T221940Z
ATTACH;FMTTYPE=image/jpeg:https://www.baltimoreculture.org/sites/default/fi
 les/event-image/Static_Social-FacebookPR_1200x630_MyMorningJacket-Nathanie
 lRateliff_2024_Regional_MerriweatherPostPavilion_0927-640x360-cropped.jpg
CATEGORIES:Performance,Outdoors
CREATED:20240327T191840Z
DTSTART;TZID=America/New_York:20240927T193000
DTEND;TZID=America/New_York:20240927T230000
GEO:+39.208771;-76.862779
LAST-MODIFIED:20240328T155418Z
LOCATION:Merriweather Post Pavilion, 10475 Little Patuxent Parkway, Colum
 bia, MD
SUMMARY:Nathaniel Rateliff & TNS and My Morning Jacket
URL:https://merriweathermusic.com/
X-GBCA-NID:35553
END:VEVENT
END:VCALENDAR
