BEGIN:VCALENDAR
VERSION:2.0
PRODID:-//Date iCal v2.14-dev//NONSGML kigkonsult.se iCalcreator 2.16.6//
METHOD:PUBLISH
X-WR-CALNAME;VALUE=TEXT:Greater Baltimore Cultural Alliance
BEGIN:VTIMEZONE
TZID:America/New_York
BEGIN:STANDARD
DTSTART:20241103T020000
TZOFFSETFROM:-0400
TZOFFSETTO:-0500
TZNAME:EST
END:STANDARD
BEGIN:DAYLIGHT
DTSTART:20250309T020000
TZOFFSETFROM:-0500
TZOFFSETTO:-0400
TZNAME:EDT
END:DAYLIGHT
END:VTIMEZONE
BEGIN:VEVENT
UID:calendar.35851.field_fc_date.0@www.baltimoreculture.org
DTSTAMP:20260424T090131Z
ATTACH;FMTTYPE=image/jpeg:https://www.baltimoreculture.org/sites/default/fi
 les/event-image/Four%20SeasonsPBSO2324_SummerFest_350x350.jpg
CATEGORIES:Performance
CREATED:20240522T163507Z
DESCRIPTION:From the delicate whispers of spring to the fiery passion of su
 mmer, each  movement of Vivaldi's Four Seasons promises to whisk you away
  on a musical  journey through vivid landscapes in a pastiche of seasonal 
 celebration. The  BSO performs this timeless classic with acclaimed violin
 ist Simone Porter.\n\nNicholas Hersh, conductor Simone Porter, violin\n
 \nDUKAS The Sorcerer’s Apprentice VIVALDI The Four Seasons ANNA CLYNE This
  Moment GRIEG Selections from Peer Gynt: Suite No.1
DTSTART;TZID=America/New_York:20240713T193000
DTEND;TZID=America/New_York:20240713T223000
LAST-MODIFIED:20240522T184009Z
LOCATION:Joseph Meyerhoff Symphony Hall, 1212 Cathedral Street, Baltimore
 , MD
SUMMARY:BSO Music Presents: Vivaldi's Four Seasons
URL:https://my.bsomusic.org/overview/19217
X-GBCA-NID:35851
END:VEVENT
END:VCALENDAR
