BEGIN:VCALENDAR
VERSION:2.0
PRODID:-//Date iCal v2.14-dev//NONSGML kigkonsult.se iCalcreator 2.16.6//
METHOD:PUBLISH
X-WR-CALNAME;VALUE=TEXT:Greater Baltimore Cultural Alliance
BEGIN:VTIMEZONE
TZID:America/New_York
BEGIN:STANDARD
DTSTART:20241103T020000
TZOFFSETFROM:-0400
TZOFFSETTO:-0500
TZNAME:EST
END:STANDARD
BEGIN:DAYLIGHT
DTSTART:20250309T020000
TZOFFSETFROM:-0500
TZOFFSETTO:-0400
TZNAME:EDT
END:DAYLIGHT
END:VTIMEZONE
BEGIN:VEVENT
UID:calendar.35901.field_fc_date.0@www.baltimoreculture.org
DTSTAMP:20260425T235259Z
ATTACH;FMTTYPE=image/jpeg:https://www.baltimoreculture.org/sites/default/fi
 les/event-image/Flyerb.jpg
CATEGORIES:Performance,Activities,Nightlife
CREATED:20240603T185823Z
DESCRIPTION:Are you ready for the ride of your life?\n\nHop aboard the Prid
 e Train Ride with one-of-a-kind drag performances,  followed by the offic
 ial Baltimore Pride Party featuring RuPaul's Drag Race  Queen, Mhi'ya Ima
 n Le'Paige and our amazing local queens! Meet-and-greet  available to all 
 VIP ticket holders. The party will be filled with music,  food, and drin
 ks under the stars surrounded by trains - it's the ultimate  Pride celebra
 tion at the B&O Railroad Museum!
DTSTART;TZID=America/New_York:20240614T200000
DTEND;TZID=America/New_York:20240615T020000
GEO:+39.285422;-76.632745
LAST-MODIFIED:20240604T144037Z
LOCATION:B&O Railroad Museum, 901 W. Pratt Street, Baltimore, MD
SUMMARY:Ridin’ the Rails: Pride Train & Party
URL:https://www.ridintherails.org
X-GBCA-NID:35901
END:VEVENT
END:VCALENDAR
