BEGIN:VCALENDAR
VERSION:2.0
PRODID:-//Date iCal v2.14-dev//NONSGML kigkonsult.se iCalcreator 2.16.6//
METHOD:PUBLISH
X-WR-CALNAME;VALUE=TEXT:Greater Baltimore Cultural Alliance
BEGIN:VTIMEZONE
TZID:America/New_York
BEGIN:STANDARD
DTSTART:20241103T020000
TZOFFSETFROM:-0400
TZOFFSETTO:-0500
TZNAME:EST
END:STANDARD
BEGIN:DAYLIGHT
DTSTART:20250309T020000
TZOFFSETFROM:-0500
TZOFFSETTO:-0400
TZNAME:EDT
END:DAYLIGHT
END:VTIMEZONE
BEGIN:VEVENT
UID:calendar.35933.field_fc_date.0@www.baltimoreculture.org
DTSTAMP:20260423T133734Z
ATTACH;FMTTYPE=image/png:https://www.baltimoreculture.org/sites/default/fil
 es/event-image/Unlock%20Your%20Creativity-2-Eventbrite_1.png
CATEGORIES:Performance,Lectures/ Workshops,Activities,Nightlife
CREATED:20240613T155754Z
DESCRIPTION:Join us for 'Unlock Your Creativity Through Improv' - a dynamic
  and engaging  introductory improv workshop designed to ignite your creati
 vity and unlock  the power of spontaneous collaboration. This two-hour in-
 person workshop is  the perfect opportunity to dip your toes into the exci
 ting world of improv.\n\nOur workshop begins with friendly introductions f
 ollowed by a boundary  check-in, ensuring a held space for exploration an
 d creativity.
DTSTART;TZID=America/New_York:20240708T183000
DTEND;TZID=America/New_York:20240708T203000
LAST-MODIFIED:20240617T140155Z
LOCATION:St. Luke's Church on the Avenue, 800 W 36th Street, Baltimore, 
 MD
SUMMARY:Unlock Your Creativity Through Improv!
URL:https://www.highwireimprov.com
X-GBCA-NID:35933
END:VEVENT
END:VCALENDAR
