BEGIN:VCALENDAR
VERSION:2.0
PRODID:-//Date iCal v2.14-dev//NONSGML kigkonsult.se iCalcreator 2.16.6//
METHOD:PUBLISH
X-WR-CALNAME;VALUE=TEXT:Greater Baltimore Cultural Alliance
BEGIN:VTIMEZONE
TZID:America/New_York
BEGIN:STANDARD
DTSTART:20241103T020000
TZOFFSETFROM:-0400
TZOFFSETTO:-0500
TZNAME:EST
END:STANDARD
BEGIN:DAYLIGHT
DTSTART:20250309T020000
TZOFFSETFROM:-0500
TZOFFSETTO:-0400
TZNAME:EDT
END:DAYLIGHT
END:VTIMEZONE
BEGIN:VEVENT
UID:calendar.35969.field_fc_date.0@www.baltimoreculture.org
DTSTAMP:20260424T183615Z
ATTACH;FMTTYPE=image/png:https://www.baltimoreculture.org/sites/default/fil
 es/event-image/BSO2324_OregonRidge_DigitalSuite1_IGSquare_1080x1080.png
CATEGORIES:Performance,Activities,Outdoors
CREATED:20240620T190018Z
DESCRIPTION:“O say can you see”— and hear — this incredible celebration of 
  American independence combining the magic of symphonic music with a dazzl
 ing  firework display. Gather with family and friends, find a cozy spot o
 utdoors  for your blanket or lawn chair, grab a bite from local food truc
 ks, and enjoy  favorite works across film music, show tunes, and famili
 ar classics by  Copland, Tchaikovsky, Bernstein, and more. Don’t miss t
 his beloved BSO  tradition in an evening of fun, fanfare, and fireworks!
DTSTART;TZID=America/New_York:20240703T200000
DTEND;TZID=America/New_York:20240707T210000
GEO:+39.484964;-76.688677
LAST-MODIFIED:20240624T141017Z
LOCATION:Oregon Ridge Park, 13401 Beaver Dam Rd, Cockeysville, MD
SUMMARY:BSO Music Presents: Star-Spangled Spectacular at Oregon Ridge
URL:https://my.bsomusic.org/19220/19224
X-GBCA-NID:35969
END:VEVENT
END:VCALENDAR
