BEGIN:VCALENDAR
VERSION:2.0
PRODID:-//Date iCal v2.14-dev//NONSGML kigkonsult.se iCalcreator 2.16.6//
METHOD:PUBLISH
X-WR-CALNAME;VALUE=TEXT:Greater Baltimore Cultural Alliance
BEGIN:VTIMEZONE
TZID:America/New_York
BEGIN:STANDARD
DTSTART:20241103T020000
TZOFFSETFROM:-0400
TZOFFSETTO:-0500
TZNAME:EST
END:STANDARD
BEGIN:DAYLIGHT
DTSTART:20250309T020000
TZOFFSETFROM:-0500
TZOFFSETTO:-0400
TZNAME:EDT
END:DAYLIGHT
END:VTIMEZONE
BEGIN:VEVENT
UID:calendar.36012.field_fc_date.0@www.baltimoreculture.org
DTSTAMP:20260424T170741Z
ATTACH;FMTTYPE=image/jpeg:https://www.baltimoreculture.org/sites/default/fi
 les/July4.jpg
CATEGORIES:Activities,Nightlife,Outdoors,Other
CREATED:20240627T180737Z
DESCRIPTION:*Celebrate the 4th of July at the Inner Harbor!*\n\n3PM: Waterf
 ront Partnership kicks off the festivities with a picnic at West  Shore Pa
 rk featuring local food trucks and vendors\n\n6PM: DJ C. James at Inner Ha
 rbor Amphitheater\n\n7-8PM: Avenue 66 performs\n\n8PM: BSO Concert Begins 
 at Rash Field\n\n9:30-9:45PM: Fireworks and drone show
DTSTART;TZID=America/New_York:20240704T150000
DTEND;TZID=America/New_York:20240704T220000
LAST-MODIFIED:20240627T180737Z
LOCATION:Baltimore Inner Harbor, 401 Light St., Baltimore, MD
SUMMARY:Baltimore's 4th of July Celebration
URL:https://www.promotionandarts.org/events/baltimores-4-of-july-celebratio
 n/
X-GBCA-NID:36012
END:VEVENT
END:VCALENDAR
