BEGIN:VCALENDAR
VERSION:2.0
PRODID:-//Date iCal v2.14-dev//NONSGML kigkonsult.se iCalcreator 2.16.6//
METHOD:PUBLISH
X-WR-CALNAME;VALUE=TEXT:Greater Baltimore Cultural Alliance
BEGIN:VTIMEZONE
TZID:America/New_York
BEGIN:STANDARD
DTSTART:20241103T020000
TZOFFSETFROM:-0400
TZOFFSETTO:-0500
TZNAME:EST
END:STANDARD
BEGIN:DAYLIGHT
DTSTART:20250309T020000
TZOFFSETFROM:-0500
TZOFFSETTO:-0400
TZNAME:EDT
END:DAYLIGHT
END:VTIMEZONE
BEGIN:VEVENT
UID:calendar.36133.field_fc_date.0@www.baltimoreculture.org
DTSTAMP:20260422T152504Z
ATTACH;FMTTYPE=image/png:https://www.baltimoreculture.org/sites/default/fil
 es/event-image/Lou%20Room%20August%202024%207pm-2-Instagram%20Square.png
CATEGORIES:Performance,Activities,Nightlife
CREATED:20240723T194123Z
DESCRIPTION:Join Highwire Improv for monthly laughs on the 3rd Saturday of 
 every month  with a rotating cast of the city's best improv ensembles, as
  well as frequent  regional and national touring guests!\n\nThe bar is ope
 n all day, and doors for the show open at 6:30pm for a 7pm  start!\n\nThi
 s month's acts include:\n\nChronic Pain is a new indie team from Baltimore
 . They met as students at BIG  and do longform improv. We all have some ki
 nd of pain in our lives - real  physical pain, or even if someone you kno
 w is just a pain in the butt. We  take that and make it funny.
DTSTART;TZID=America/New_York:20240817T190000
DTEND;TZID=America/New_York:20240817T203000
GEO:+39.330873;-76.633433
LAST-MODIFIED:20260130T001300Z
LOCATION:Zissimos Bar, 1023 W 36th St, Baltimore, MD
SUMMARY:Live, Laugh, Pain: Improv Comedy at Zissimos Bar
URL:https://www.highwireimprov.com
X-GBCA-NID:36133
END:VEVENT
END:VCALENDAR
