BEGIN:VCALENDAR
VERSION:2.0
PRODID:-//Date iCal v2.14-dev//NONSGML kigkonsult.se iCalcreator 2.16.6//
METHOD:PUBLISH
X-WR-CALNAME;VALUE=TEXT:Greater Baltimore Cultural Alliance
BEGIN:VTIMEZONE
TZID:America/New_York
BEGIN:STANDARD
DTSTART:20241103T020000
TZOFFSETFROM:-0400
TZOFFSETTO:-0500
TZNAME:EST
END:STANDARD
BEGIN:DAYLIGHT
DTSTART:20250309T020000
TZOFFSETFROM:-0500
TZOFFSETTO:-0400
TZNAME:EDT
END:DAYLIGHT
END:VTIMEZONE
BEGIN:VEVENT
UID:calendar.36137.field_fc_date.0@www.baltimoreculture.org
DTSTAMP:20260423T203146Z
ATTACH;FMTTYPE=image/png:https://www.baltimoreculture.org/sites/default/fil
 es/event-image/Meadworks%20August%202024-2-Instagram%20Square.png
CATEGORIES:Performance,Activities,Nightlife
CREATED:20240723T211805Z
DESCRIPTION:Highwire Improv returns to Charm City Meadworks for another nig
 ht of amazing  improv comedy and delicious drinks! The taproom opens at 6:
 30, and the show  starts at 7!\n\nAbout the acts:\n\nBrad's Dad is a Balt
 imore-based indie improv troupe - they love their son  Brad, and it shows
 .\n\nThe Surreal Afterlife is a reality show has only had celebrities come
   through, but today a regular person has shown up has shown up at the ho
 use.  Cue the improv.\n\nLocal Spot is a long-running Baltimore-based mono
 scene team. Some say the  longest-running!
DTSTART;TZID=America/New_York:20240823T190000
DTEND;TZID=America/New_York:20240823T210000
GEO:+39.2317;-76.573969
LAST-MODIFIED:20260130T001300Z
LOCATION:Charm City Meadworks, 3511 8th Ave, Baltimore, MD
SUMMARY:Grog and Guffaws: Improv Comedy at Charm City Meadworks!
URL:https://www.highwireimprov.com
X-GBCA-NID:36137
END:VEVENT
END:VCALENDAR
